Workbook

Sheet сравнитеьный отчет
A1: Итоговый отчет по продажам
A2: Сравнительный период : 01.01.2014 по: 31.07.2014 Рабочий период 01.01.2015-31.07.2015
A3: По отделу: 3 ДЕТСКОЕ ПИТАНИЕ
A4: Код подразделения | B4: Наименование подразделения | C4: Сумма продаж в отпускных ценах с НДС | D4: Сумма продаж в отпускных ценах с НДС | E4: % изменения | F4: Валовый доход | G4: Валовый доход | H4: % изменения | I4: Наценка | J4: Наценка | K4: Наценка | L4: Наценка
C5: 2014 | D5: 2015 | F5: 2014 | G5: 2015 | I5: 2014 | J5: 2015 | K5: %
A6: 1 | B6: 2 | C6: 3 | F6: 5 | I6: 7 | J6: 7 | K6: 7
A7: 101 | B7: Еркемай Атырау | C7: 38945180 | D7: =VLOOKUP(B7,Лист2!B10:C16,2,0) -> 32328934 | E7: =D7/C7*100-100 -> -16.988614 | F7: 3504300.9 | G7: =VLOOKUP(B7,Лист2!B10:E16,4,0) -> 2194307.8 | H7: =G7/F7*100-100 -> -37.382437 | I7: 9.888 | J7: =VLOOKUP(B7,Лист2!B10:G16,6,0) -> 7.282 | K7: =J7/I7*100-100 -> -26.355178
A8: 102 | B8: Еркемай Актау | C8: 17808884 | D8: =VLOOKUP(B8,Лист2!B11:C17,2,0) -> 14250282 | E8: =D8/C8*100-100 -> -19.982173 | F8: 1191815.2 | G8: =VLOOKUP(B8,Лист2!B11:E17,4,0) -> 849249.81 | H8: =G8/F8*100-100 -> -28.743162 | I8: 7.172 | J8: =VLOOKUP(B8,Лист2!B11:G17,6,0) -> 6.337 | K8: =J8/I8*100-100 -> -11.642499
A9: 103 | B9: Еркемай Алматы Максима | C9: 14914058 | D9: =VLOOKUP(B9,Лист2!B12:C18,2,0) -> 10832510 | E9: =D9/C9*100-100 -> -27.367124 | F9: 999354.22 | G9: =VLOOKUP(B9,Лист2!B12:E18,4,0) -> 589647.24 | H9: =G9/F9*100-100 -> -40.997173 | I9: 7.182 | J9: =VLOOKUP(B9,Лист2!B12:G18,6,0) -> 5.757 | K9: =J9/I9*100-100 -> -19.84127
A10: 104 | B10: Еркемай Уральск | C10: 22901693 | D10: =VLOOKUP(B10,Лист2!B13:C19,2,0) -> 11159728 | E10: =D10/C10*100-100 -> -51.271166 | F10: 1673389.6 | G10: =VLOOKUP(B10,Лист2!B13:E19,4,0) -> 674523.61 | H10: =G10/F10*100-100 -> -59.69118 | I10: 7.883 | J10: =VLOOKUP(B10,Лист2!B13:G19,6,0) -> 6.433 | K10: =J10/I10*100-100 -> -18.394012
A11: 106 | B11: Еркемай Алматы Есентай | C11: 9531091.9 | D11: 0 | E11: =D11/C11*100-100 -> -100 | F11: 941736.58 | G11: 0 | H11: =G11/F11*100-100 -> -100 | I11: 10.964 | K11: =J11/I11*100-100 -> -100
A12: 109 | B12: Еркемай Караганда | C12: 6789657.5 | D12: =VLOOKUP(B12,Лист2!B14:C24,2,0) -> 6036289.8 | E12: =D12/C12*100-100 -> -11.095813 | F12: 505092.03 | G12: =VLOOKUP(B12,Лист2!B14:E21,4,0) -> 265085.2 | H12: =G12/F12*100-100 -> -47.517445 | I12: 8.037 | J12: =VLOOKUP(B12,Лист2!B14:G21,6,0) -> 4.593 | K12: =J12/I12*100-100 -> -42.85181
A13: 110 | B13: Еркемай Караганда Таир | C13: 5728851.1 | D13: =VLOOKUP(B13,Лист2!B15:C25,2,0) -> 6120232 | E13: =D13/C13*100-100 -> 6.831752 | F13: 435701.39 | G13: =VLOOKUP(B13,Лист2!B14:E22,4,0) -> 285338.76 | H13: =G13/F13*100-100 -> -34.510477 | I13: 8.231 | J13: =VLOOKUP(B13,Лист2!B14:G22,6,0) -> 4.89 | K13: =J13/I13*100-100 -> -40.590451
A14: 111 | B14: Еркемай Павлодар | C14: 0 | D14: =VLOOKUP(B14,Лист2!B16:C26,2,0) -> 7122382 | E14: 0 | F14: 0 | G14: =VLOOKUP(B14,Лист2!B14:E23,4,0) -> 320127.19 | H14: 0 | I14: 0 | J14: =VLOOKUP(B14,Лист2!B14:G23,6,0) -> 4.706 | K14: 0
B15: Итого | C15: 116619415 | D15: =SUM(D7:D14) -> 87850356 | E15: =D15/C15*100-100 -> -24.669185 | F15: 9251389.9 | G15: =SUM(G7:G14) -> 5178279.6 | H15: =G15/F15*100-100 -> -44.027009 | I15: 8.617 | J15: =AVERAGE(J7:J14) -> 5.714 | K15: 8.617
A17: По отделу: 4 Парфармация
A18: Код подразделения | B18: Наименование подразделения | C18: Сумма продаж в отпускных ценах с НДС | D18: Сумма продаж в отпускных ценах с НДС | E18: % изменения | F18: Валовый доход | G18: Валовый доход | H18: % изменения | I18: Наценка | J18: Наценка | L18: Оборачиваемость товарного запаса за период
C19: 2014 | D19: 2015 | F19: 2014 | G19: 2015 | I19: 2014 | J19: 2015 | L19: дней
L20: 10
A21: 101 | B21: Еркемай Атырау | C21: 88547095 | D21: =VLOOKUP(B21,Лист3!B4:C10,2,0) -> 79902369 | E21: =D21/C21*100-100 -> -9.7628569 | F21: 14537972 | G21: =VLOOKUP(B21,Лист3!B4:E10,4,0) -> 14698139 | H21: =G21/F21*100-100 -> 1.1017151 | I21: 19.643 | J21: =VLOOKUP(B21,Лист3!B4:G10,6,0) -> 22.542 | L21: 34.955
A22: 102 | B22: Еркемай Актау | C22: 43817045 | D22: =VLOOKUP(B22,Лист3!B5:C11,2,0) -> 38018948 | E22: =D22/C22*100-100 -> -13.232517 | F22: 7159427.1 | G22: =VLOOKUP(B22,Лист3!B5:E11,4,0) -> 7024538.8 | H22: =G22/F22*100-100 -> -1.8840656 | I22: 19.531 | J22: =VLOOKUP(B22,Лист3!B5:G11,6,0) -> 22.664 | L22: 59.38
A23: 103 | B23: Еркемай Алматы Максима | C23: 18703770 | D23: =VLOOKUP(B23,Лист3!B6:C12,2,0) -> 11678180 | E23: =D23/C23*100-100 -> -37.562425 | F23: 2325213.4 | G23: =VLOOKUP(B23,Лист3!B6:E12,4,0) -> 1741848.6 | H23: =G23/F23*100-100 -> -25.088656 | I23: 14.197 | J23: =VLOOKUP(B23,Лист3!B6:G12,6,0) -> 17.53 | L23: 109.556
A24: 104 | B24: Еркемай Уральск | C24: 36786915 | D24: =VLOOKUP(B24,Лист3!B7:C13,2,0) -> 22153393 | E24: =D24/C24*100-100 -> -39.77915 | F24: 3969967.2 | G24: =VLOOKUP(B24,Лист3!B7:E13,4,0) -> 2864181.3 | H24: =G24/F24*100-100 -> -27.853779 | I24: 12.097 | J24: =VLOOKUP(B24,Лист3!B7:G13,6,0) -> 14.849 | L24: 68.045
A25: 106 | B25: Еркемай Алматы Есентай | C25: 11536353 | D25: 0 | E25: 0 | F25: 2230748 | G25: 0 | H25: =G25/F25*100-100 -> -100 | I25: 23.972 | L25: 152.095
A26: 109 | B26: Еркемай Караганда | C26: 13105388 | D26: =VLOOKUP(B26,Лист3!B8:C15,2,0) -> 10100302 | E26: =D26/C26*100-100 -> -22.930161 | F26: 1323338.9 | G26: =VLOOKUP(B26,Лист3!B8:E15,4,0) -> 1373806.3 | H26: =G26/F26*100-100 -> 3.813639 | I26: 11.232 | J26: =VLOOKUP(B26,Лист3!B8:G15,6,0) -> 15.743 | L26: 130.274
A27: 110 | B27: Еркемай Караганда Таир | C27: 10836572 | D27: =VLOOKUP(B27,Лист3!B8:C16,2,0) -> 10145798 | E27: =D27/C27*100-100 -> -6.3744608 | F27: 1399459.8 | G27: =VLOOKUP(B27,Лист3!B8:E16,4,0) -> 1485658.7 | H27: =G27/F27*100-100 -> 6.159441 | I27: 14.829 | J27: =VLOOKUP(B27,Лист3!B8:G16,6,0) -> 17.155 | L27: 147.166
A28: 111 | B28: Еркемай Павлодар | C28: 0 | D28: =VLOOKUP(B28,Лист3!B8:C17,2,0) -> 11545978 | E28: 0 | F28: 0 | G28: =VLOOKUP(B28,Лист3!B8:E17,4,0) -> 2093094.3 | H28: 0 | I28: 0 | J28: =VLOOKUP(B28,Лист3!B8:G17,6,0) -> 22.142 | L28: 0
B29: Итого | C29: 2.2333314e+08 | D29: =SUM(D21:D28) -> 1.8354497e+08 | E29: =D29/C29*100-100 -> -17.815614 | F29: 32946127 | G29: =SUM(G21:G28) -> 31281267 | H29: =G29/F29*100-100 -> -5.053278 | I29: 17.305 | J29: =AVERAGE(J21:J28) -> 18.946429 | L29: 72.248

Sheet Лист2
A1: Итоговый отчет по продажам
A2: Продажи за период с: 01.01.2015 по: 31.07.2015
A3: Остатки на дату: 01.08.2015
A4: По объединению: 1 ТОО "Торгово-развлекательный ц
A5: По отделу: 3 ДЕТСКОЕ ПИТАНИЕ
A6: (розничные и оптовые продажи)
A7: Код подразделения | B7: Наименование подразделения | C7: Сумма продаж в отпускных ценах с НДС | D7: Сумма продаж в учетных ценах с НДС | E7: Валовый доход | F7: Рентабельность | G7: Наценка | H7: Сумма остатка в учетных ценах по магазинам | I7: Сумма остатка в учетных ценах по складам | J7: Оборачиваемость товарного запаса за период
C8: руб | D8: руб | E8: руб | F8: % | G8: % | H8: руб | I8: руб | J8: дней
A9: 1 | B9: 2 | C9: 3 | D9: 4 | E9: 5 | F9: 6 | G9: 7 | H9: 8 | I9: 9 | J9: 10
A10: 101 | B10: Еркемай Атырау | C10: 32328934 | D10: 30134626 | E10: 2194307.8 | F10: 6.787 | G10: 7.282 | H10: 3581793.1 | I10: 0 | J10: 25.198
A11: 102 | B11: Еркемай Актау | C11: 14250282 | D11: 13401032 | E11: 849249.81 | F11: 5.96 | G11: 6.337 | H11: 2048713.4 | I11: 0 | J11: 32.41
A12: 103 | B12: Еркемай Алматы Максима | C12: 10832510 | D12: 10242862 | E12: 589647.24 | F12: 5.443 | G12: 5.757 | H12: 2029501.3 | I12: 0 | J12: 42.005
A13: 104 | B13: Еркемай Уральск | C13: 11159728 | D13: 10485204 | E13: 674523.61 | F13: 6.044 | G13: 6.433 | H13: 1980473.2 | I13: 0 | J13: 40.043
A14: 109 | B14: Еркемай Караганда | C14: 6036289.8 | D14: 5771204.5 | E14: 265085.2 | F14: 4.392 | G14: 4.593 | H14: 2206522.3 | I14: 0 | J14: 81.055
A15: 110 | B15: Еркемай Караганда Таир | C15: 6120232 | D15: 5834893.2 | E15: 285338.76 | F15: 4.662 | G15: 4.89 | H15: 2186709.2 | I15: 0 | J15: 79.45
A16: 111 | B16: Еркемай Павлодар | C16: 7122382 | D16: 6802254.8 | E16: 320127.19 | F16: 4.495 | G16: 4.706 | H16: 1805004.4 | I16: 0 | J16: 56.255
B17: Итого | C17: 87850356 | D17: 82672077 | E17: 5178279.6 | F17: 5.894 | G17: =AVERAGE(G10:G16) -> 5.714 | H17: 15838717 | I17: 0 | J17: 40.616

Sheet Лист3
A1: Код подразделения | B1: Наименование подразделения | C1: Сумма продаж в отпускных ценах с НДС | D1: Сумма продаж в учетных ценах с НДС | E1: Валовый доход | F1: Рентабельность | G1: Наценка | H1: Сумма остатка в учетных ценах по магазинам | I1: Сумма остатка в учетных ценах по складам | J1: Оборачиваемость товарного запаса за период
C2: руб | D2: руб | E2: руб | F2: % | G2: % | H2: руб | I2: руб | J2: дней
A3: 1 | B3: 2 | C3: 3 | D3: 4 | E3: 5 | F3: 6 | G3: 7 | H3: 8 | I3: 9 | J3: 10
A4: 101 | B4: Еркемай Атырау | C4: 79902369 | D4: 65204230 | E4: 14698139 | F4: 18.395 | G4: 22.542 | H4: 7741278.8 | I4: 0 | J4: 25.169
A5: 102 | B5: Еркемай Актау | C5: 38018948 | D5: 30994409 | E5: 7024538.8 | F5: 18.476 | G5: 22.664 | H5: 5818995.6 | I5: 0 | J5: 39.802
A6: 103 | B6: Еркемай Алматы Максима | C6: 11678180 | D6: 9936331.6 | E6: 1741848.6 | F6: 14.915 | G6: 17.53 | H6: 6077579.2 | I6: 0 | J6: 129.67
A7: 104 | B7: Еркемай Уральск | C7: 22153393 | D7: 19289211 | E7: 2864181.3 | F7: 12.929 | G7: 14.849 | H7: 6174675.1 | I7: 0 | J7: 67.863
A8: 109 | B8: Еркемай Караганда | C8: 10100302 | D8: 8726495.4 | E8: 1373806.3 | F8: 13.602 | G8: 15.743 | H8: 5412996.8 | I8: 0 | J8: 131.502
A9: 110 | B9: Еркемай Караганда Таир | C9: 10145798 | D9: 8660139.8 | E9: 1485658.7 | F9: 14.643 | G9: 17.155 | H9: 4837658.7 | I9: 0 | J9: 118.426
A10: 111 | B10: Еркемай Павлодар | C10: 11545978 | D10: 9452884.1 | E10: 2093094.3 | F10: 18.128 | G10: 22.142 | H10: 5837988.6 | I10: 0 | J10: 130.929
B11: Итого | C11: 1.8354497e+08 | D11: 1.522637e+08 | E11: 31281267 | F11: 17.043 | G11: =AVERAGE(G4:G10) -> 18.946429 | H11: 41901173 | I11: 110357.16 | J11: 58.494

Sheet Локальные поставщики
A1: Наименование поставщика | B1: Сумма продаж в учетных ценах | O1: Сумма продаж в отпускных ценах ценах | AB1: Валовая прибыль | AO1: остаток в учетных ценах на расчетный месяц | BB1: компенсация промо | BO1: РБ | CB1: Скидка выходного дня | CO1: Скидка по КК | DB1: Общая сумма по компенсациям | DC1: оборачиваемость в годовом выражение если уровень продаж и складские запасы будут на таком уровне, как в анализируемом месяце | DO1: оборачиваемость | DP1: Поставки | EC1: Доля продаж | EP1: Доля прибыли | FC1: Доля поставок
B2: 42005 | C2: 42036 | D2: 42064 | E2: 42095 | F2: 42125 | G2: 42156 | H2: 42186 | I2: 42217 | J2: 42248 | K2: 42278 | L2: 42309 | M2: 42339 | N2: итого | O2: 42005 | P2: 42036 | Q2: 42064 | R2: 42095 | S2: 42125 | T2: 42156 | U2: 42186 | V2: 42217 | W2: 42248 | X2: 42278 | Y2: 42309 | Z2: 42339 | AA2: итого | AB2: 42005 | AC2: 42036 | AD2: 42064 | AE2: 42095 | AF2: 42125 | AG2: 42156 | AH2: 42186 | AI2: 42217 | AJ2: 42248 | AK2: 42278 | AL2: 42309 | AM2: 42339 | AN2: итого | AO2: 42005 | AP2: 42036 | AQ2: 42064 | AR2: 42095 | AS2: 42125 | AT2: 42156 | AU2: 42186 | AV2: 42217 | AW2: 42248 | AX2: 42278 | AY2: 42309 | AZ2: 42339 | BA2: итого | BB2: 42005 | BC2: 42036 | BD2: 42064 | BE2: 42095 | BF2: 42125 | BG2: 42156 | BH2: 42186 | BI2: 42217 | BJ2: 42248 | BK2: 42278 | BL2: 42309 | BM2: 42339 | BN2: итого | BO2: 42005 | BP2: 42036 | BQ2: 42064 | BR2: 42095 | BS2: 42125 | BT2: 42156 | BU2: 42186 | BV2: 42217 | BW2: 42248 | BX2: 42278 | BY2: 42309 | BZ2: 42339 | CA2: итого | CB2: 42005 | CC2: 42036 | CD2: 42064 | CE2: 42095 | CF2: 42125 | CG2: 42156 | CH2: 42186 | CI2: 42217 | CJ2: 42248 | CK2: 42278 | CL2: 42309 | CM2: 42339 | CN2: итого | CO2: 42005 | CP2: 42036 | CQ2: 42064 | CR2: 42095 | CS2: 42125 | CT2: 42156 | CU2: 42186 | CV2: 42217 | CW2: 42248 | CX2: 42278 | CY2: 42309 | CZ2: 42339 | DA2: итого | DC2: 42005 | DD2: 42036 | DE2: 42064 | DF2: 42095 | DG2: 42125 | DH2: 42156 | DI2: 42186 | DJ2: 42217 | DK2: 42248 | DL2: 42278 | DM2: 42309 | DN2: 42339 | DP2: 42005 | DQ2: 42036 | DR2: 42064 | DS2: 42095 | DT2: 42125 | DU2: 42156 | DV2: 42186 | DW2: 42217 | DX2: 42248 | DY2: 42278 | DZ2: 42309 | EA2: 42339 | EB2: итого | EC2: 42005 | ED2: 42036 | EE2: 42064 | EF2: 42095 | EG2: 42125 | EH2: 42156 | EI2: 42186 | EJ2: 42217 | EK2: 42248 | EL2: 42278 | EM2: 42309 | EN2: 42339 | EO2: итого | EP2: 42005 | EQ2: 42036 | ER2: 42064 | ES2: 42095 | ET2: 42125 | EU2: 42156 | EV2: 42186 | EW2: 42217 | EX2: 42248 | EY2: 42278 | EZ2: 42309 | FA2: 42339 | FB2: итого | FC2: 42005 | FD2: 42036 | FE2: 42064 | FF2: 42095 | FG2: 42125 | FH2: 42156 | FI2: 42186 | FJ2: 42217 | FK2: 42248 | FL2: 42278 | FM2: 42309 | FN2: 42339 | FO2: итого
A4: Akerke Distribution Group ТОО | B4: =VLOOKUP(A4,[1]Лист4!A3:B35,2,0) -> 288.09 | C4: =VLOOKUP(A4,[1]Лист5!A8:B39,2,0) -> 192.06 | D4: =VLOOKUP(A4,[1]Лист6!A8:B39,2,0) -> 96.03 | E4: =VLOOKUP(A4,[1]Лист7!A8:B39,2,0) -> 96.03 | F4: =VLOOKUP(A4,[1]Лист8!A8:B41,2,0) -> 0 | G4: =VLOOKUP(A4,[1]Лист9!A8:B39,2,0) -> 96.03 | H4: =VLOOKUP(A4,[1]Лист11!B7:C39,2,0) -> 258.02 | N4: =SUM(B4:M4) -> 1026.26 | O4: =VLOOKUP(A4,[1]Лист4!A3:C35,3,0) -> 420 | P4: =VLOOKUP(A4,[1]Лист5!A8:C39,3,0) -> 280 | Q4: =VLOOKUP(A4,[1]Лист6!A8:C39,3,0) -> 140 | R4: =VLOOKUP(A4,[1]Лист7!A8:C39,3,0) -> 140 | S4: =VLOOKUP(A4,[1]Лист8!A8:C41,3,0) -> 0 | T4: =VLOOKUP(A4,[1]Лист9!A8:D39,3,0) -> 140 | U4: =VLOOKUP(A4,[1]Лист11!B7:D39,3,0) -> 140 | AA4: =SUM(O4:Z4) -> 1260 | AB4: =VLOOKUP(A4,[1]Лист4!A3:D35,4,0) -> 131.91 | AC4: =VLOOKUP(A4,[1]Лист5!A8:D39,4,0) -> 87.94 | AD4: =VLOOKUP(A4,[1]Лист6!A8:D39,4,0) -> 43.97 | AE4: =VLOOKUP(A4,[1]Лист7!A8:D39,4,0) -> 43.97 | AF4: =VLOOKUP(A4,[1]Лист8!A8:D41,4,0) -> 0 | AG4: =VLOOKUP(A4,[1]Лист9!A8:D39,4,0) -> 43.97 | AH4: =VLOOKUP(A4,[1]Лист11!B7:E39,4,0) -> -118.02 | AN4: =SUM(AB4:AM4) -> 233.74 | AO4: =VLOOKUP(A4,[1]Лист4!A3:E35,5,0) -> 2085.5 | AP4: =VLOOKUP(A4,[1]Лист5!A8:E39,5,0) -> 1893.44 | AQ4: =VLOOKUP(A4,[1]Лист6!A8:E39,5,0) -> 1926.42 | AR4: =VLOOKUP(A4,[1]Лист7!A8:E39,5,0) -> 1314.35 | AS4: =VLOOKUP(A4,[1]Лист8!A8:E41,5,0) -> 1830.39 | AT4: =VLOOKUP(A4,[1]Лист9!A8:E39,5,0) -> 1218.32 | AU4: =VLOOKUP(A4,[1]Лист11!B7:F39,5,0) -> 1476.34 | BA4: =AT4 -> 1218.32 | BN4: =SUM(BB4:BM4) -> 0 | CA4: =SUM(BO4:BZ4) -> 0 | CN4: =SUM(CB4:CM4) -> 0 | DA4: =SUM(CO4:CZ4) -> 0 | DB4: =BN4+CA4+CN4+DA4 -> 0 | DD4: =(P4-AC4)/(AO4+AP4)/2*12 -> 0.28961482 | DE4: =(Q4-AD4)/(AP4+AQ4)/2*12 -> 0.15083799 | DF4: =(R4-AE4)/(AQ4+AR4)/2*12 -> 0.17779108 | DG4: =(S4-AF4)/(AR4+AS4)/2*12 -> 0 | DH4: =(T4-AG4)/(AS4+AT4)/2*12 -> 0.18899141 | DI4: =(U4-AH4)/(AT4+AU4)/2*12 -> 0.57451404 | DP4: 0 | DQ4: 0 | DR4: 0 | DS4: 0 | DT4: 0 | DU4: 0 | DV4: 0 | EB4: =SUM(DP4:EA4) -> 0 | EC4: =B4/$B$17 -> 1.2210599e-05 | ED4: =C4/$C$17 -> 9.5548328e-06 | EE4: =D4/$D$17 -> 4.6902825e-06 | EF4: =E4/$E$17 -> 5.9345552e-06 | EG4: =F4/$F$17 -> 0 | EH4: =G4/$G$17 -> 7.6032502e-06 | EI4: =H4/$H$17 -> 2.2972228e-05 | EO4: =N4/$N$17 -> 8.3918883e-06 | EP4: =AB4/$AB$17 -> 4.7145972e-05 | EQ4: =AC4/$AC$17 -> 3.1851744e-05 | ER4: =AD4/$AD$17 -> 1.6915803e-05 | ES4: =AE4/$AE$17 -> 1.7805936e-05 | ET4: =AF4/$AF$17 -> 0 | EU4: =AG4/$AG$17 -> 3.1101783e-05 | EV4: =AH4/$AH$17 -> -9.8433943e-05 | FB4: =AA4/$N$17 -> 1.0303217e-05 | FC4: =DP4/$DP$17 -> 0 | FD4: =DQ4/$DQ$17 -> 0 | FE4: =DR4/$DR$17 -> 0 | FF4: =DS4/$DS$17 -> 0 | FG4: =DT4/$DT$17 -> 0 | FH4: =DU4/$DU$17 -> 0 | FI4: =DV4/$DV$17 -> 0 | FO4: =EB4/$EB$17 -> 0
A5: Apple City Distributors ТОО | B5: =VLOOKUP(A5,[1]Лист4!A5:B37,2,0) -> 6944000.9 | C5: =VLOOKUP(A5,[1]Лист5!A10:B41,2,0) -> 5571557.6 | D5: =VLOOKUP(A5,[1]Лист6!A10:B41,2,0) -> 6094514.8 | E5: =VLOOKUP(A5,[1]Лист7!A10:B41,2,0) -> 5338524.9 | F5: =VLOOKUP(A5,[1]Лист8!A10:B43,2,0) -> 6719218.9 | G5: =VLOOKUP(A5,[1]Лист9!A10:B41,2,0) -> 4155812.5 | H5: =VLOOKUP(A5,[1]Лист11!B8:C40,2,0) -> 3713795.2 | N5: =SUM(B5:M5) -> 38537425 | O5: =VLOOKUP(A5,[1]Лист4!A5:C37,3,0) -> 7250978 | P5: =VLOOKUP(A5,[1]Лист5!A10:C41,3,0) -> 5827071 | Q5: =VLOOKUP(A5,[1]Лист6!A10:C41,3,0) -> 6265401.2 | R5: =VLOOKUP(A5,[1]Лист7!A10:C41,3,0) -> 5795435.2 | S5: =VLOOKUP(A5,[1]Лист8!A10:C43,3,0) -> 6438810.7 | T5: =VLOOKUP(A5,[1]Лист9!A10:D41,3,0) -> 4182374.8 | U5: =VLOOKUP(A5,[1]Лист11!B8:D40,3,0) -> 4080516.2 | AA5: =SUM(O5:Z5) -> 39840587 | AB5: =VLOOKUP(A5,[1]Лист4!A5:D37,4,0) -> 306977.13 | AC5: =VLOOKUP(A5,[1]Лист5!A10:D41,4,0) -> 255513.42 | AD5: =VLOOKUP(A5,[1]Лист6!A10:D41,4,0) -> 170886.49 | AE5: =VLOOKUP(A5,[1]Лист7!A10:D41,4,0) -> 456910.34 | AF5: =VLOOKUP(A5,[1]Лист8!A10:D43,4,0) -> -280408.22 | AG5: =VLOOKUP(A5,[1]Лист9!A10:D41,4,0) -> 26562.22 | AH5: =VLOOKUP(A5,[1]Лист11!B8:E40,4,0) -> 366721.02 | AN5: =SUM(AB5:AM5) -> 1303162.4 | AO5: =VLOOKUP(A5,[1]Лист4!A5:E37,5,0) -> 8665350 | AP5: =VLOOKUP(A5,[1]Лист5!A10:E41,5,0) -> 8636827.2 | AQ5: =VLOOKUP(A5,[1]Лист6!A10:E41,5,0) -> 7564298.7 | AR5: =VLOOKUP(A5,[1]Лист7!A10:E41,5,0) -> 9196527.7 | AS5: =VLOOKUP(A5,[1]Лист8!A10:E43,5,0) -> 6897964 | AT5: =VLOOKUP(A5,[1]Лист9!A10:E41,5,0) -> 7125517.9 | AU5: =VLOOKUP(A5,[1]Лист11!B8:F40,5,0) -> 6533785.2 | BA5: =AT5 -> 7125517.9 | BF5: =[1]Лист1!R11 -> 938365.66 | BG5: =[1]Лист1!AA11 -> 410713.42 | BN5: =SUM(BB5:BM5) -> 1349079.1 | BR5: 457656 | BU5: =[1]РБ!F5 -> 510313 | CA5: =SUM(BO5:BZ5) -> 967969 | CN5: =SUM(CB5:CM5) -> 0 | DA5: =SUM(CO5:CZ5) -> 0 | DB5: =BN5+CA5+CN5+DA5 -> 2317048.1 | DD5: =(P5-AC5)/(AO5+AP5)/2*12 -> 1.9320889 | DE5: =(Q5-AD5)/(AP5+AQ5)/2*12 -> 2.2570708 | DF5: =(R5-AE5)/(AQ5+AR5)/2*12 -> 1.9110722 | DG5: =(S5-AF5)/(AR5+AS5)/2*12 -> 2.5049138 | DH5: =(T5-AG5)/(AS5+AT5)/2*12 -> 1.7780802 | DI5: =(U5-AH5)/(AT5+AU5)/2*12 -> 1.6313256 | DP5: =VLOOKUP(A5,[1]Лист3!A4:B35,2,0) -> 5456856.1 | DQ5: =VLOOKUP(A5,[1]Лист3!A4:C35,3,0) -> 5496912.3 | DR5: =VLOOKUP(A5,[1]Лист3!A4:D35,4,0) -> 4988343.2 | DS5: =VLOOKUP(A5,[1]Лист3!A4:E35,5,0) -> 6977873.1 | DT5: =VLOOKUP(A5,[1]Лист3!A4:F35,6,0) -> 4417975.9 | DU5: =VLOOKUP(A5,[1]Лист3!A4:G35,7,0) -> 4418639.9 | DV5: =VLOOKUP(A5,[1]Лист14!E9:G16,3,0) -> 2921741.2 | EB5: =SUM(DP5:EA5) -> 34678342 | EC5: =B5/$B$17 -> 0.29431917 | ED5: =C5/$C$17 -> 0.27718058 | EE5: =D5/$D$17 -> 0.29766736 | EF5: =E5/$E$17 -> 0.32991535 | EG5: =F5/$F$17 -> 0.37163922 | EH5: =G5/$G$17 -> 0.3290397 | EI5: =H5/$H$17 -> 0.33064937 | EO5: =N5/$N$17 -> 0.31512654 | EP5: =AB5/$AB$17 -> 0.10971674 | EQ5: =AC5/$AC$17 -> 0.092546599 | ER5: =AD5/$AD$17 -> 0.065742148 | ES5: =AE5/$AE$17 -> 0.1850288 | ET5: =AF5/$AF$17 -> -0.17534287 | EU5: =AG5/$AG$17 -> 0.018788547 | EV5: =AH5/$AH$17 -> 0.30586168 | FB5: =AA5/$N$17 -> 0.3257827 | FC5: =DP5/$DP$17 -> 0.31583999 | FD5: =DQ5/$DQ$17 -> 0.27899946 | FE5: =DR5/$DR$17 -> 0.32265499 | FF5: =DS5/$DS$17 -> 0.55274328 | FG5: =DT5/$DT$17 -> 0.37473497 | FH5: =DU5/$DU$17 -> 0.31998609 | FI5: =DV5/$DV$17 -> 0.43355656 | FO5: =EB5/$EB$17 -> 0.35603554
A6: Bеаuty Plus ТОО | B6: =[1]Лист4!B7 -> 5819601 | C6: =VLOOKUP(A6,[1]Лист5!A12:B43,2,0) -> 5081341 | D6: =VLOOKUP(A6,[1]Лист6!A12:B43,2,0) -> 5109554 | E6: =VLOOKUP(A6,[1]Лист7!A12:B43,2,0) -> 4329332.6 | F6: =VLOOKUP(A6,[1]Лист8!A12:B45,2,0) -> 5056323.9 | G6: =VLOOKUP(A6,[1]Лист9!A12:B43,2,0) -> 2946383.2 | H6: =VLOOKUP(A6,[1]Лист11!B9:C41,2,0) -> 2618077 | N6: =SUM(B6:M6) -> 30960613 | O6: =VLOOKUP(A6,[1]Лист4!A7:C39,3,0) -> 7055587 | P6: =VLOOKUP(A6,[1]Лист5!A12:C43,3,0) -> 6632724 | Q6: =VLOOKUP(A6,[1]Лист6!A12:C43,3,0) -> 6544875 | R6: =VLOOKUP(A6,[1]Лист7!A12:C43,3,0) -> 5544755 | S6: =VLOOKUP(A6,[1]Лист8!A12:C45,3,0) -> 6192380 | T6: =VLOOKUP(A6,[1]Лист9!A12:D43,3,0) -> 3740886 | U6: =VLOOKUP(A6,[1]Лист11!B9:D41,3,0) -> 2939440.5 | AA6: =SUM(O6:Z6) -> 38650648 | AB6: =VLOOKUP(A6,[1]Лист4!A7:D39,4,0) -> 1235986 | AC6: =VLOOKUP(A6,[1]Лист5!A12:D43,4,0) -> 1551383 | AD6: =VLOOKUP(A6,[1]Лист6!A12:D43,4,0) -> 1435321 | AE6: =VLOOKUP(A6,[1]Лист7!A12:D43,4,0) -> 1215422.4 | AF6: =VLOOKUP(A6,[1]Лист8!A12:D45,4,0) -> 1136056.1 | AG6: =VLOOKUP(A6,[1]Лист9!A12:D43,4,0) -> 794502.81 | AH6: =VLOOKUP(A6,[1]Лист11!B9:E41,4,0) -> 321363.55 | AN6: =SUM(AB6:AM6) -> 7690034.8 | AO6: =VLOOKUP(A6,[1]Лист4!A7:E39,5,0) -> 4757925.8 | AP6: =VLOOKUP(A6,[1]Лист5!A12:E43,5,0) -> 6039340.3 | AQ6: =VLOOKUP(A6,[1]Лист6!A12:E43,5,0) -> 5445814 | AR6: =VLOOKUP(A6,[1]Лист7!A12:E43,5,0) -> 3330165.5 | AS6: =VLOOKUP(A6,[1]Лист8!A12:E45,5,0) -> 3075972.6 | AT6: =VLOOKUP(A6,[1]Лист9!A12:E43,5,0) -> 3394084.9 | AU6: =VLOOKUP(A6,[1]Лист11!B9:F41,5,0) -> 1249373.6 | BA6: =AT6 -> 3394084.9 | BN6: =SUM(BB6:BM6) -> 0 | CA6: =SUM(BO6:BZ6) -> 0 | CN6: =SUM(CB6:CM6) -> 0 | DA6: =SUM(CO6:CZ6) -> 0 | DB6: =BN6+CA6+CN6+DA6 -> 0 | DD6: =(P6-AC6)/(AO6+AP6)/2*12 -> 2.823682 | DE6: =(Q6-AD6)/(AP6+AQ6)/2*12 -> 2.6693001 | DF6: =(R6-AE6)/(AQ6+AR6)/2*12 -> 2.959897 | DG6: =(S6-AF6)/(AR6+AS6)/2*12 -> 4.7357617 | DH6: =(T6-AG6)/(AS6+AT6)/2*12 -> 2.7323249 | DI6: =(U6-AH6)/(AT6+AU6)/2*12 -> 3.3829228 | DP6: 4242474.8 | DQ6: 1148067.6 | DR6: 1207689.4 | DS6: 2318964.7 | DT6: 1507477.4 | DU6: 2490688.6 | DV6: =VLOOKUP(A6,[1]Лист14!E10:G17,3,0) -> 1243364 | EB6: =SUM(DP6:EA6) -> 14158727 | EC6: =B6/$B$17 -> 0.24666186 | ED6: =C6/$C$17 -> 0.25279269 | EE6: =D6/$D$17 -> 0.24956005 | EF6: =E6/$E$17 -> 0.2675483 | EG6: =F6/$F$17 -> 0.27966469 | EH6: =G6/$G$17 -> 0.23328219 | EI6: =H6/$H$17 -> 0.23309457 | EO6: =N6/$N$17 -> 0.25316977 | EP6: =AB6/$AB$17 -> 0.44175393 | EQ6: =AC6/$AC$17 -> 0.56190872 | ER6: =AD6/$AD$17 -> 0.55218577 | ES6: =AE6/$AE$17 -> 0.49219318 | ET6: =AF6/$AF$17 -> 0.71039048 | EU6: =AG6/$AG$17 -> 0.56198439 | EV6: =AH6/$AH$17 -> 0.26803153 | FB6: =AA6/$N$17 -> 0.31605238 | FC6: =DP6/$DP$17 -> 0.24555223 | FD6: =DQ6/$DQ$17 -> 0.058270939 | FE6: =DR6/$DR$17 -> 0.078115519 | FF6: =DS6/$DS$17 -> 0.18369382 | FG6: =DT6/$DT$17 -> 0.127865 | FH6: =DU6/$DU$17 -> 0.18036901 | FI6: =DV6/$DV$17 -> 0.18450252 | FO6: =EB6/$EB$17 -> 0.14536479
A7: SAKURA TRADE ИП | B7: =VLOOKUP(A7,[1]Лист4!A10:B45,2,0) -> 38131.03 | C7: =VLOOKUP(A7,[1]Лист5!A17:B48,2,0) -> 199194.09 | D7: =VLOOKUP(A7,[1]Лист6!A17:B48,2,0) -> 394474.87 | E7: =VLOOKUP(A7,[1]Лист7!A17:B48,2,0) -> 93541.54 | F7: =VLOOKUP(A7,[1]Лист8!A17:B50,2,0) -> 50937.96 | G7: =VLOOKUP(A7,[1]Лист9!A17:B48,2,0) -> 20417.95 | H7: =VLOOKUP(A7,[1]Лист11!B10:C42,2,0) -> 43810.25 | N7: =SUM(B7:M7) -> 840507.69 | O7: =VLOOKUP(A7,[1]Лист4!A12:C44,3,0) -> 44720 | P7: =VLOOKUP(A7,[1]Лист5!A17:C48,3,0) -> 241890 | Q7: =VLOOKUP(A7,[1]Лист6!A17:C48,3,0) -> 484010 | R7: =VLOOKUP(A7,[1]Лист7!A17:C48,3,0) -> 111790 | S7: =VLOOKUP(A7,[1]Лист8!A17:C50,3,0) -> 60920 | T7: =VLOOKUP(A7,[1]Лист9!A17:D48,3,0) -> 23400 | U7: =VLOOKUP(A7,[1]Лист11!B10:D42,3,0) -> 50300 | AA7: =SUM(O7:Z7) -> 1017030 | AB7: =VLOOKUP(A7,[1]Лист4!A12:D44,4,0) -> 6588.97 | AC7: =VLOOKUP(A7,[1]Лист5!A17:D48,4,0) -> 42695.91 | AD7: =VLOOKUP(A7,[1]Лист6!A17:D48,4,0) -> 89535.13 | AE7: =VLOOKUP(A7,[1]Лист7!A17:D48,4,0) -> 18248.46 | AF7: =VLOOKUP(A7,[1]Лист8!A17:D50,4,0) -> 9982.04 | AG7: =VLOOKUP(A7,[1]Лист9!A17:D48,4,0) -> 2982.05 | AH7: =VLOOKUP(A7,[1]Лист11!B10:E42,4,0) -> 6489.75 | AN7: =SUM(AB7:AM7) -> 176522.31 | AO7: =VLOOKUP(A7,[1]Лист4!A12:E44,5,0) -> 327787.77 | AP7: =VLOOKUP(A7,[1]Лист5!A17:E48,5,0) -> 825378.5 | AQ7: =VLOOKUP(A7,[1]Лист6!A17:E48,5,0) -> 398073.91 | AR7: =VLOOKUP(A7,[1]Лист7!A17:E48,5,0) -> 303042.4 | AS7: =VLOOKUP(A7,[1]Лист8!A17:E50,5,0) -> 257337.53 | AT7: =VLOOKUP(A7,[1]Лист9!A17:E48,5,0) -> 236919.6 | AU7: =VLOOKUP(A7,[1]Лист11!B10:F42,5,0) -> 193109.37 | BA7: =AT7 -> 236919.6 | BN7: =SUM(BB7:BM7) -> 0 | CA7: =SUM(BO7:BZ7) -> 0 | CN7: =SUM(CB7:CM7) -> 0 | DA7: =SUM(CO7:CZ7) -> 0 | DB7: =BN7+CA7+CN7+DA7 -> 0 | DD7: =(P7-AC7)/(AO7+AP7)/2*12 -> 1.03642 | DE7: =(Q7-AD7)/(AP7+AQ7)/2*12 -> 1.9345658 | DF7: =(R7-AE7)/(AQ7+AR7)/2*12 -> 0.80050804 | DG7: =(S7-AF7)/(AR7+AS7)/2*12 -> 0.54539384 | DH7: =(T7-AG7)/(AS7+AT7)/2*12 -> 0.24786228 | DI7: =(U7-AH7)/(AT7+AU7)/2*12 -> 0.61126463 | DP7: =VLOOKUP(A7,[1]Лист3!A6:B37,2,0) -> 0 | DQ7: =VLOOKUP(A7,[1]Лист3!A6:C37,3,0) -> 3649890 | DR7: =VLOOKUP(A7,[1]Лист3!A6:D37,4,0) -> 278800 | DS7: =VLOOKUP(A7,[1]Лист3!A6:E37,5,0) -> 0 | DT7: =VLOOKUP(A7,[1]Лист3!A6:F37,6,0) -> 0 | DU7: =VLOOKUP(A7,[1]Лист3!A6:G37,7,0) -> 0 | DV7: 0 | EB7: =SUM(DP7:EA7) -> 3928690 | EC7: =B7/$B$17 -> 0.001616171 | ED7: =C7/$C$17 -> 0.0099097482 | EE7: =D7/$D$17 -> 0.019266881 | EF7: =E7/$E$17 -> 0.005780771 | EG7: =F7/$F$17 -> 0.0028173727 | EH7: =G7/$G$17 -> 0.0016166071 | EI7: =H7/$H$17 -> 0.0039005467 | EO7: =N7/$N$17 -> 0.0068729627 | EP7: =AB7/$AB$17 -> 0.0023549647 | EQ7: =AC7/$AC$17 -> 0.015464398 | ER7: =AD7/$AD$17 -> 0.034445273 | ES7: =AE7/$AE$17 -> 0.0073898321 | ET7: =AF7/$AF$17 -> 0.006241898 | EU7: =AG7/$AG$17 -> 0.0021093262 | EV7: =AH7/$AH$17 -> 0.0054127409 | FB7: =AA7/$N$17 -> 0.0083164131 | FC7: =DP7/$DP$17 -> 0 | FD7: =DQ7/$DQ$17 -> 0.18525261 | FE7: =DR7/$DR$17 -> 0.018033285 | FF7: =DS7/$DS$17 -> 0 | FG7: =DT7/$DT$17 -> 0 | FH7: =DU7/$DU$17 -> 0 | FI7: =DV7/$DV$17 -> 0 | FO7: =EB7/$EB$17 -> 0.040335068
A8: Almatytrade ТОО | B8: =VLOOKUP(A8,[1]Лист4!A4:B36,2,0) -> 50337.15 | C8: =VLOOKUP(A8,[1]Лист5!A9:B40,2,0) -> 53778.22 | D8: =VLOOKUP(A8,[1]Лист6!A9:B40,2,0) -> 55994.12 | E8: =VLOOKUP(A8,[1]Лист7!A9:B40,2,0) -> 27780.29 | F8: =VLOOKUP(A8,[1]Лист8!A9:B42,2,0) -> 35203.42 | G8: =VLOOKUP(A8,[1]Лист9!A9:B40,2,0) -> 39641.71 | H8: =[1]Лист11!C8 -> 6970.54 | N8: =SUM(B8:M8) -> 269705.45 | O8: =VLOOKUP(A8,[1]Лист4!A4:C36,3,0) -> 53349 | P8: =VLOOKUP(A8,[1]Лист5!A9:C40,3,0) -> 58292 | Q8: =VLOOKUP(A8,[1]Лист6!A9:C40,3,0) -> 61015 | R8: =VLOOKUP(A8,[1]Лист7!A9:C40,3,0) -> 30159 | S8: =VLOOKUP(A8,[1]Лист8!A9:C42,3,0) -> 38730 | T8: =VLOOKUP(A8,[1]Лист9!A9:D40,3,0) -> 43695 | U8: =[1]Лист11!D8 -> 7600 | AA8: =SUM(O8:Z8) -> 292840 | AB8: =VLOOKUP(A8,[1]Лист4!A4:D36,4,0) -> 3011.85 | AC8: =VLOOKUP(A8,[1]Лист5!A9:D40,4,0) -> 4513.78 | AD8: =VLOOKUP(A8,[1]Лист6!A9:D40,4,0) -> 5020.88 | AE8: =VLOOKUP(A8,[1]Лист7!A9:D40,4,0) -> 2378.71 | AF8: =VLOOKUP(A8,[1]Лист8!A9:D42,4,0) -> 3526.58 | AG8: =VLOOKUP(A8,[1]Лист9!A9:D40,4,0) -> 4053.29 | AH8: =[1]Лист11!E8 -> 629.46 | AN8: =SUM(AB8:AM8) -> 23134.55 | AO8: =VLOOKUP(A8,[1]Лист4!A4:E36,5,0) -> 59844.99 | AP8: =VLOOKUP(A8,[1]Лист5!A9:E40,5,0) -> 59826.61 | AQ8: =VLOOKUP(A8,[1]Лист6!A9:E40,5,0) -> 32345.9 | AR8: =VLOOKUP(A8,[1]Лист7!A9:E40,5,0) -> 36321.37 | AS8: =VLOOKUP(A8,[1]Лист8!A9:E42,5,0) -> 56660.24 | AT8: =VLOOKUP(A8,[1]Лист9!A9:E40,5,0) -> 46954.07 | AU8: =[1]Лист11!F8 -> 49731.69 | BA8: =AT8 -> 46954.07 | BN8: =SUM(BB8:BM8) -> 0 | CA8: =SUM(BO8:BZ8) -> 0 | CN8: =SUM(CB8:CM8) -> 0 | DA8: =SUM(CO8:CZ8) -> 0 | DB8: =BN8+CA8+CN8+DA8 -> 0 | DD8: =(P8-AC8)/(AO8+AP8)/2*12 -> 2.6962898 | DE8: =(Q8-AD8)/(AP8+AQ8)/2*12 -> 3.6449557 | DF8: =(R8-AE8)/(AQ8+AR8)/2*12 -> 2.4273827 | DG8: =(S8-AF8)/(AR8+AS8)/2*12 -> 2.2716376 | DH8: =(T8-AG8)/(AS8+AT8)/2*12 -> 2.2955349 | DI8: =(U8-AH8)/(AT8+AU8)/2*12 -> 0.43256877 | DP8: =VLOOKUP(A8,[1]Лист3!A3:B3,2,0) -> 358584 | DQ8: 0 | DR8: 0 | DS8: 0 | DT8: 0 | DU8: 0 | DV8: =VLOOKUP(A8,[1]Лист14!E12:G19,3,0) -> 494172 | EB8: =SUM(DP8:EA8) -> 852756 | EC8: =B8/$B$17 -> 0.0021335234 | ED8: =C8/$C$17 -> 0.0026754238 | EE8: =D8/$D$17 -> 0.0027348562 | EF8: =E8/$E$17 -> 0.0017167933 | EG8: =F8/$F$17 -> 0.0019470971 | EH8: =G8/$G$17 -> 0.0031386633 | EI8: =H8/$H$17 -> 0.00062060628 | EO8: =N8/$N$17 -> 0.0022054236 | EP8: =AB8/$AB$17 -> 0.0010764657 | EQ8: =AC8/$AC$17 -> 0.0016348847 | ER8: =AD8/$AD$17 -> 0.0019315947 | ES8: =AE8/$AE$17 -> 0.00096327403 | ET8: =AF8/$AF$17 -> 0.0022052158 | EU8: =AG8/$AG$17 -> 0.0028670581 | EV8: =AH8/$AH$17 -> 0.00052499771 | FB8: =AA8/$N$17 -> 0.0023945984 | FC8: =DP8/$DP$17 -> 0.020754655 | FD8: =DQ8/$DQ$17 -> 0 | FE8: =DR8/$DR$17 -> 0 | FF8: =DS8/$DS$17 -> 0 | FG8: =DT8/$DT$17 -> 0 | FH8: =DU8/$DU$17 -> 0 | FI8: =DV8/$DV$17 -> 0.073330079 | FO8: =EB8/$EB$17 -> 0.0087550738
A9: Астана Элит Продукт | B9: =VLOOKUP(A9,[1]Лист4!A11:B52,2,0) -> 2902318.8 | C9: =VLOOKUP(A9,[1]Лист5!A24:B55,2,0) -> 2430447.5 | D9: =VLOOKUP(A9,[1]Лист6!A24:B55,2,0) -> 2356043.9 | E9: =VLOOKUP(A9,[1]Лист7!A24:B55,2,0) -> 1331357.8 | F9: =VLOOKUP(A9,[1]Лист8!A24:B57,2,0) -> 1372915.6 | G9: =VLOOKUP(A9,[1]Лист9!A24:B55,2,0) -> 1256382.2 | H9: =VLOOKUP(A9,[1]Лист11!B12:C44,2,0) -> 24934.79 | N9: =SUM(B9:M9) -> 11674401 | O9: =VLOOKUP(A9,[1]Лист4!A19:C51,3,0) -> 3080181.2 | P9: =VLOOKUP(A9,[1]Лист5!A24:C55,3,0) -> 2554626.5 | Q9: =VLOOKUP(A9,[1]Лист6!A24:C55,3,0) -> 2485338.8 | R9: =VLOOKUP(A9,[1]Лист7!A24:C55,3,0) -> 1416038.8 | S9: =VLOOKUP(A9,[1]Лист8!A24:C57,3,0) -> 1471740 | T9: =VLOOKUP(A9,[1]Лист9!A24:D55,3,0) -> 1346290.5 | U9: =VLOOKUP(A9,[1]Лист11!B12:D44,3,0) -> 27290 | AA9: =SUM(O9:Z9) -> 12381506 | AB9: =VLOOKUP(A9,[1]Лист4!A19:D51,4,0) -> 177862.43 | AC9: =VLOOKUP(A9,[1]Лист5!A24:D55,4,0) -> 124178.99 | AD9: =VLOOKUP(A9,[1]Лист6!A24:D55,4,0) -> 129294.82 | AE9: =VLOOKUP(A9,[1]Лист7!A24:D55,4,0) -> 84680.98 | AF9: =VLOOKUP(A9,[1]Лист8!A24:D57,4,0) -> 98824.45 | AG9: =VLOOKUP(A9,[1]Лист9!A24:D55,4,0) -> 89908.3 | AH9: =VLOOKUP(A9,[1]Лист11!B12:E44,4,0) -> 2355.21 | AN9: =SUM(AB9:AM9) -> 707105.18 | AO9: =VLOOKUP(A9,[1]Лист4!A19:E51,5,0) -> 3070190.1 | AP9: =VLOOKUP(A9,[1]Лист5!A24:E55,5,0) -> 2768118.3 | AQ9: =VLOOKUP(A9,[1]Лист6!A24:E55,5,0) -> 1792728.4 | AR9: =VLOOKUP(A9,[1]Лист7!A24:E55,5,0) -> 1376011.1 | AS9: =VLOOKUP(A9,[1]Лист8!A24:E57,5,0) -> 1688383.2 | AT9: =VLOOKUP(A9,[1]Лист9!A24:E55,5,0) -> 2123109.2 | AU9: =VLOOKUP(A9,[1]Лист11!B12:F44,5,0) -> 49326.95 | BA9: =AT9 -> 2123109.2 | BN9: =SUM(BB9:BM9) -> 0 | CA9: =SUM(BO9:BZ9) -> 0 | CN9: =SUM(CB9:CM9) -> 0 | DA9: =SUM(CO9:CZ9) -> 0 | DB9: =BN9+CA9+CN9+DA9 -> 0 | DD9: =(P9-AC9)/(AO9+AP9)/2*12 -> 2.4977586 | DE9: =(Q9-AD9)/(AP9+AQ9)/2*12 -> 3.0994823 | DF9: =(R9-AE9)/(AQ9+AR9)/2*12 -> 2.5209225 | DG9: =(S9-AF9)/(AR9+AS9)/2*12 -> 2.6881311 | DH9: =(T9-AG9)/(AS9+AT9)/2*12 -> 1.97778 | DI9: =(U9-AH9)/(AT9+AU9)/2*12 -> 0.068866807 | DP9: =VLOOKUP(A9,[1]Лист3!A8:B39,2,0) -> 423082 | DQ9: =VLOOKUP(A9,[1]Лист3!A8:C39,3,0) -> 258324 | DR9: =VLOOKUP(A9,[1]Лист3!A8:D39,4,0) -> 0 | DS9: =VLOOKUP(A9,[1]Лист3!A8:E39,5,0) -> 0 | DT9: =VLOOKUP(A9,[1]Лист3!A8:F39,6,0) -> 0 | DU9: =VLOOKUP(A9,[1]Лист3!A8:G39,7,0) -> 1093354 | DV9: 0 | EB9: =SUM(DP9:EA9) -> 1774760 | EC9: =B9/$B$17 -> 0.12301382 | ED9: =C9/$C$17 -> 0.12091284 | EE9: =D9/$D$17 -> 0.11507354 | EF9: =E9/$E$17 -> 0.082276541 | EG9: =F9/$F$17 -> 0.0759358 | EH9: =G9/$G$17 -> 0.099475041 | EI9: =H9/$H$17 -> 0.0022200127 | EO9: =N9/$N$17 -> 0.095463397 | EP9: =AB9/$AB$17 -> 0.063569836 | EQ9: =AC9/$AC$17 -> 0.044977455 | ER9: =AD9/$AD$17 -> 0.049741318 | ES9: =AE9/$AE$17 -> 0.034292112 | ET9: =AF9/$AF$17 -> 0.0617962 | EU9: =AG9/$AG$17 -> 0.063595825 | EV9: =AH9/$AH$17 -> 0.0019643502 | FB9: =AA9/$N$17 -> 0.10124551 | FC9: =DP9/$DP$17 -> 0.024487766 | FD9: =DQ9/$DQ$17 -> 0.013111407 | FE9: =DR9/$DR$17 -> 0 | FF9: =DS9/$DS$17 -> 0 | FG9: =DT9/$DT$17 -> 0 | FH9: =DU9/$DU$17 -> 0.079177775 | FI9: =DV9/$DV$17 -> 0 | FO9: =EB9/$EB$17 -> 0.018221103
A10: Бостан ТОО | B10: =[1]Лист4!B21 -> 84481.38 | C10: =VLOOKUP(A10,[1]Лист5!A26:B57,2,0) -> 53486.95 | D10: =VLOOKUP(A10,[1]Лист6!A26:B57,2,0) -> 96967.63 | E10: =VLOOKUP(A10,[1]Лист7!A26:B57,2,0) -> 43196.45 | F10: =VLOOKUP(A10,[1]Лист8!A26:B59,2,0) -> 10154.04 | G10: =VLOOKUP(A10,[1]Лист9!A26:B57,2,0) -> 33521.87 | H10: =VLOOKUP(A10,[1]Лист11!B13:C45,2,0) -> 62790.32 | N10: =SUM(B10:M10) -> 384598.64 | O10: =VLOOKUP(A10,[1]Лист4!A21:C53,3,0) -> 108519 | P10: =VLOOKUP(A10,[1]Лист5!A26:C57,3,0) -> 68097.5 | Q10: =VLOOKUP(A10,[1]Лист6!A26:C57,3,0) -> 126443.5 | R10: =VLOOKUP(A10,[1]Лист7!A26:C57,3,0) -> 54963 | S10: =VLOOKUP(A10,[1]Лист8!A26:C59,3,0) -> 13195 | T10: =VLOOKUP(A10,[1]Лист9!A26:D57,3,0) -> 43964.5 | U10: =VLOOKUP(A10,[1]Лист11!B13:D45,3,0) -> 68671 | AA10: =SUM(O10:Z10) -> 483853.5 | AB10: =VLOOKUP(A10,[1]Лист4!A21:D53,4,0) -> 24037.62 | AC10: =VLOOKUP(A10,[1]Лист5!A26:D57,4,0) -> 14610.55 | AD10: =VLOOKUP(A10,[1]Лист6!A26:D57,4,0) -> 29475.87 | AE10: =VLOOKUP(A10,[1]Лист7!A26:D57,4,0) -> 11766.55 | AF10: =VLOOKUP(A10,[1]Лист8!A26:D59,4,0) -> 3040.96 | AG10: =VLOOKUP(A10,[1]Лист9!A26:D57,4,0) -> 10442.63 | AH10: =VLOOKUP(A10,[1]Лист11!B13:E45,4,0) -> 5880.68 | AN10: =SUM(AB10:AM10) -> 99254.86 | AO10: =VLOOKUP(A10,[1]Лист4!A21:E53,5,0) -> 770115.88 | AP10: =VLOOKUP(A10,[1]Лист5!A26:E57,5,0) -> 725212.96 | AQ10: =VLOOKUP(A10,[1]Лист6!A26:E57,5,0) -> 630360.1 | AR10: =VLOOKUP(A10,[1]Лист7!A26:E57,5,0) -> 589692.24 | AS10: =VLOOKUP(A10,[1]Лист8!A26:E59,5,0) -> 85136.69 | AT10: =VLOOKUP(A10,[1]Лист9!A26:E57,5,0) -> 535540.48 | AU10: =VLOOKUP(A10,[1]Лист11!B13:F45,5,0) -> 474423.43 | BA10: =AT10 -> 535540.48 | BN10: =SUM(BB10:BM10) -> 0 | CA10: =SUM(BO10:BZ10) -> 0 | CN10: =SUM(CB10:CM10) -> 0 | DA10: =SUM(CO10:CZ10) -> 0 | DB10: =BN10+CA10+CN10+DA10 -> 0 | DD10: =(P10-AC10)/(AO10+AP10)/2*12 -> 0.21461614 | DE10: =(Q10-AD10)/(AP10+AQ10)/2*12 -> 0.42919544 | DF10: =(R10-AE10)/(AQ10+AR10)/2*12 -> 0.21243244 | DG10: =(S10-AF10)/(AR10+AS10)/2*12 -> 0.090281014 | DH10: =(T10-AG10)/(AS10+AT10)/2*12 -> 0.32405126 | DI10: =(U10-AH10)/(AT10+AU10)/2*12 -> 0.37302513 | DP10: =VLOOKUP(A10,[1]Лист3!A9:B40,2,0) -> 38154 | DQ10: =VLOOKUP(A10,[1]Лист3!A9:C40,3,0) -> 7710 | DR10: =VLOOKUP(A10,[1]Лист3!A9:D40,4,0) -> 4827 | DS10: =VLOOKUP(A10,[1]Лист3!A9:E40,5,0) -> 0 | DT10: =VLOOKUP(A10,[1]Лист3!A9:F40,6,0) -> 0 | DU10: =VLOOKUP(A10,[1]Лист3!A9:G40,7,0) -> 37514 | DV10: =[1]Лист14!G13 -> 5772 | EB10: =SUM(DP10:EA10) -> 93977 | EC10: =B10/$B$17 -> 0.0035807152 | ED10: =C10/$C$17 -> 0.0026609334 | EE10: =D10/$D$17 -> 0.0047360781 | EF10: =E10/$E$17 -> 0.0026694962 | EG10: =F10/$F$17 -> 0.00056161878 | EH10: =G10/$G$17 -> 0.0026541202 | EI10: =H10/$H$17 -> 0.0055903943 | EO10: =N10/$N$17 -> 0.0031449231 | EP10: =AB10/$AB$17 -> 0.0085912892 | EQ10: =AC10/$AC$17 -> 0.0052919205 | ER10: =AD10/$AD$17 -> 0.011339732 | ES10: =AE10/$AE$17 -> 0.0047649407 | ET10: =AF10/$AF$17 -> 0.0019015514 | EU10: =AG10/$AG$17 -> 0.0073865001 | EV10: =AH10/$AH$17 -> 0.0049047494 | FB10: =AA10/$N$17 -> 0.0039565456 | FC10: =DP10/$DP$17 -> 0.0022083336 | FD10: =DQ10/$DQ$17 -> 0.0003913262 | FE10: =DR10/$DR$17 -> 0.00031221903 | FF10: =DS10/$DS$17 -> 0 | FG10: =DT10/$DT$17 -> 0 | FH10: =DU10/$DU$17 -> 0.0027166636 | FI10: =DV10/$DV$17 -> 0.00085650586 | FO10: =EB10/$EB$17 -> 0.0009648429
A11: Весна Trade ТОО | B11: =VLOOKUP(A11,[1]Лист4!A13:B55,2,0) -> 20249.28 | C11: =VLOOKUP(A11,[1]Лист5!A27:B58,2,0) -> 14673.01 | D11: =VLOOKUP(A11,[1]Лист6!A27:B58,2,0) -> 16206.6 | E11: =VLOOKUP(A11,[1]Лист7!A27:B58,2,0) -> 12093.25 | F11: =VLOOKUP(A11,[1]Лист8!A27:B60,2,0) -> 12588.93 | G11: =VLOOKUP(A11,[1]Лист9!A27:B58,2,0) -> 2694.72 | H11: =VLOOKUP(A11,[1]Лист11!B14:C46,2,0) -> 2992.5 | N11: =SUM(B11:M11) -> 81498.29 | O11: =VLOOKUP(A11,[1]Лист4!A22:C54,3,0) -> 26285 | P11: =VLOOKUP(A11,[1]Лист5!A27:C58,3,0) -> 18870 | Q11: =VLOOKUP(A11,[1]Лист6!A27:C58,3,0) -> 21030 | R11: =VLOOKUP(A11,[1]Лист7!A27:C58,3,0) -> 15700 | S11: =VLOOKUP(A11,[1]Лист8!A27:C60,3,0) -> 15960 | T11: =VLOOKUP(A11,[1]Лист9!A27:D58,3,0) -> 3430 | U11: =VLOOKUP(A11,[1]Лист11!B14:D46,3,0) -> 3650 | AA11: =SUM(O11:Z11) -> 104925 | AB11: =VLOOKUP(A11,[1]Лист4!A22:D54,4,0) -> 6035.72 | AC11: =VLOOKUP(A11,[1]Лист5!A27:D58,4,0) -> 4196.99 | AD11: =VLOOKUP(A11,[1]Лист6!A27:D58,4,0) -> 4823.4 | AE11: =VLOOKUP(A11,[1]Лист7!A27:D58,4,0) -> 3606.75 | AF11: =VLOOKUP(A11,[1]Лист8!A27:D60,4,0) -> 3371.07 | AG11: =VLOOKUP(A11,[1]Лист9!A27:D58,4,0) -> 735.28 | AH11: =VLOOKUP(A11,[1]Лист11!B14:E46,4,0) -> 657.5 | AN11: =SUM(AB11:AM11) -> 23426.71 | AO11: =VLOOKUP(A11,[1]Лист4!A22:E54,5,0) -> 33076.5 | AP11: =VLOOKUP(A11,[1]Лист5!A27:E58,5,0) -> 30233.46 | AQ11: =VLOOKUP(A11,[1]Лист6!A27:E58,5,0) -> 27605.88 | AR11: =VLOOKUP(A11,[1]Лист7!A27:E58,5,0) -> 24851.02 | AS11: =VLOOKUP(A11,[1]Лист8!A27:E60,5,0) -> 18043.54 | AT11: =VLOOKUP(A11,[1]Лист9!A27:E58,5,0) -> 15266.95 | AU11: =VLOOKUP(A11,[1]Лист11!B14:F46,5,0) -> 12274.45 | BA11: =AT11 -> 15266.95 | BN11: =SUM(BB11:BM11) -> 0 | CA11: =SUM(BO11:BZ11) -> 0 | CN11: =SUM(CB11:CM11) -> 0 | DA11: =SUM(CO11:CZ11) -> 0 | DB11: =BN11+CA11+CN11+DA11 -> 0 | DD11: =(P11-AC11)/(AO11+AP11)/2*12 -> 1.3905878 | DE11: =(Q11-AD11)/(AP11+AQ11)/2*12 -> 1.6812018 | DF11: =(R11-AE11)/(AQ11+AR11)/2*12 -> 1.3832213 | DG11: =(S11-AF11)/(AR11+AS11)/2*12 -> 1.7609128 | DH11: =(T11-AG11)/(AS11+AT11)/2*12 -> 0.48538223 | DI11: =(U11-AH11)/(AT11+AU11)/2*12 -> 0.65192764 | DP11: =VLOOKUP(A11,[1]Лист3!A10:B41,2,0) -> 61320 | DQ11: =VLOOKUP(A11,[1]Лист3!A10:C41,3,0) -> 34080 | DR11: =VLOOKUP(A11,[1]Лист3!A10:D41,4,0) -> 44322 | DS11: =VLOOKUP(A11,[1]Лист3!A10:E41,5,0) -> 29900 | DT11: =VLOOKUP(A11,[1]Лист3!A10:F41,6,0) -> 24790 | DU11: =VLOOKUP(A11,[1]Лист3!A10:G41,7,0) -> 0 | DV11: 0 | EB11: =SUM(DP11:EA11) -> 194412 | EC11: =B11/$B$17 -> 0.00085825901 | ED11: =C11/$C$17 -> 0.00072997062 | EE11: =D11/$D$17 -> 0.00079156027 | EF11: =E11/$E$17 -> 0.00074735041 | EG11: =F11/$F$17 -> 0.00069629226 | EH11: =G11/$G$17 -> 0.00021335656 | EI11: =H11/$H$17 -> 0.00026643048 | EO11: =N11/$N$17 -> 0.00066642425 | EP11: =AB11/$AB$17 -> 0.0021572275 | EQ11: =AC11/$AC$17 -> 0.0015201438 | ER11: =AD11/$AD$17 -> 0.0018556217 | ES11: =AE11/$AE$17 -> 0.0014605768 | ET11: =AF11/$AF$17 -> 0.0021079734 | EU11: =AG11/$AG$17 -> 0.00052009367 | EV11: =AH11/$AH$17 -> 0.00054838432 | FB11: =AA11/$N$17 -> 0.00085798811 | FC11: =DP11/$DP$17 -> 0.0035491697 | FD11: =DQ11/$DQ$17 -> 0.0017297532 | FE11: =DR11/$DR$17 -> 0.0028668265 | FF11: =DS11/$DS$17 -> 0.0023684902 | FG11: =DT11/$DT$17 -> 0.0021027005 | FH11: =DU11/$DU$17 -> 0 | FI11: =DV11/$DV$17 -> 0 | FO11: =EB11/$EB$17 -> 0.0019959888
A12: ИнтерБиКом ТОО | B12: =VLOOKUP(A12,[1]Лист4!A13:B56,2,0) -> 2262532 | C12: =VLOOKUP(A12,[1]Лист5!A28:B59,2,0) -> 2124893.7 | D12: =VLOOKUP(A12,[1]Лист6!A28:B59,2,0) -> 2089417.5 | E12: =VLOOKUP(A12,[1]Лист7!A28:B59,2,0) -> 1082890.9 | F12: =VLOOKUP(A12,[1]Лист8!A28:B61,2,0) -> 1516249.4 | G12: =VLOOKUP(A12,[1]Лист9!A28:B59,2,0) -> 1388235.3 | H12: =VLOOKUP(A12,[1]Лист11!B15:C47,2,0) -> 106230.57 | N12: =SUM(B12:M12) -> 10570449 | O12: =VLOOKUP(A12,[1]Лист4!A23:C55,3,0) -> 2419543.5 | P12: =VLOOKUP(A12,[1]Лист5!A28:C59,3,0) -> 2232013.8 | Q12: =VLOOKUP(A12,[1]Лист6!A28:C59,3,0) -> 2190931.8 | R12: =VLOOKUP(A12,[1]Лист7!A28:C59,3,0) -> 1146965.5 | S12: =VLOOKUP(A12,[1]Лист8!A28:C61,3,0) -> 1623418 | T12: =VLOOKUP(A12,[1]Лист9!A28:D59,3,0) -> 1495198.5 | U12: =VLOOKUP(A12,[1]Лист11!B15:D47,3,0) -> 111902 | AA12: =SUM(O12:Z12) -> 11219973 | AB12: =VLOOKUP(A12,[1]Лист4!A23:D55,4,0) -> 157011.45 | AC12: =VLOOKUP(A12,[1]Лист5!A28:D59,4,0) -> 107120.03 | AD12: =VLOOKUP(A12,[1]Лист6!A28:D59,4,0) -> 101514.28 | AE12: =VLOOKUP(A12,[1]Лист7!A28:D59,4,0) -> 64074.64 | AF12: =VLOOKUP(A12,[1]Лист8!A28:D61,4,0) -> 107168.65 | AG12: =VLOOKUP(A12,[1]Лист9!A28:D59,4,0) -> 106963.24 | AH12: =VLOOKUP(A12,[1]Лист11!B15:E47,4,0) -> 5671.43 | AN12: =SUM(AB12:AM12) -> 649523.72 | AO12: =VLOOKUP(A12,[1]Лист4!A23:E55,5,0) -> 1964492.6 | AP12: =VLOOKUP(A12,[1]Лист5!A28:E59,5,0) -> 1857209.1 | AQ12: =VLOOKUP(A12,[1]Лист6!A28:E59,5,0) -> 1122144.6 | AR12: =VLOOKUP(A12,[1]Лист7!A28:E59,5,0) -> 996246.88 | AS12: =VLOOKUP(A12,[1]Лист8!A28:E61,5,0) -> 1232189.6 | AT12: =VLOOKUP(A12,[1]Лист9!A28:E59,5,0) -> 1179905.5 | AU12: =VLOOKUP(A12,[1]Лист11!B15:F47,5,0) -> 105372.36 | BA12: =AT12 -> 1179905.5 | BE12: =[1]Лист1!J9 -> 8202.8 | BF12: =[1]Лист1!R9 -> 18355.36 | BH12: ='[1]Компенсация промо'!AJ9 -> 19435.884 | BN12: =SUM(BB12:BM12) -> 45994.044 | CA12: =SUM(BO12:BZ12) -> 0 | CN12: =SUM(CB12:CM12) -> 0 | DA12: =SUM(CO12:CZ12) -> 0 | DB12: =BN12+CA12+CN12+DA12 -> 45994.044 | DD12: =(P12-AC12)/(AO12+AP12)/2*12 -> 3.3360434 | DE12: =(Q12-AD12)/(AP12+AQ12)/2*12 -> 4.2077934 | DF12: =(R12-AE12)/(AQ12+AR12)/2*12 -> 3.0671125 | DG12: =(S12-AF12)/(AR12+AS12)/2*12 -> 4.0824569 | DH12: =(T12-AG12)/(AS12+AT12)/2*12 -> 3.4531853 | DI12: =(U12-AH12)/(AT12+AU12)/2*12 -> 0.49591098 | DP12: =VLOOKUP(A12,[1]Лист3!A11:B42,2,0) -> 157820 | DQ12: =VLOOKUP(A12,[1]Лист3!A11:C42,3,0) -> 120920 | DR12: =VLOOKUP(A12,[1]Лист3!A11:D42,4,0) -> 46771 | DS12: =VLOOKUP(A12,[1]Лист3!A11:E42,5,0) -> 129951 | DT12: =VLOOKUP(A12,[1]Лист3!A11:F42,6,0) -> 200793 | DU12: =VLOOKUP(A12,[1]Лист3!A11:G42,7,0) -> 142558 | DV12: =[1]Лист14!G12 -> 330104 | EB12: =SUM(DP12:EA12) -> 1128917 | EC12: =B12/$B$17 -> 0.09589667 | ED12: =C12/$C$17 -> 0.10571178 | EE12: =D12/$D$17 -> 0.10205101 | EF12: =E12/$E$17 -> 0.066921541 | EG12: =F12/$F$17 -> 0.083863576 | EH12: =G12/$G$17 -> 0.10991461 | EI12: =H12/$H$17 -> 0.0094579989 | EO12: =N12/$N$17 -> 0.086436215 | EP12: =AB12/$AB$17 -> 0.056117485 | EQ12: =AC12/$AC$17 -> 0.038798723 | ER12: =AD12/$AD$17 -> 0.0390538 | ES12: =AE12/$AE$17 -> 0.025947441 | ET12: =AF12/$AF$17 -> 0.067013935 | EU12: =AG12/$AG$17 -> 0.075659482 | EV12: =AH12/$AH$17 -> 0.0047302255 | FB12: =AA12/$N$17 -> 0.091747472 | FC12: =DP12/$DP$17 -> 0.0091345394 | FD12: =DQ12/$DQ$17 -> 0.0061373754 | FE12: =DR12/$DR$17 -> 0.0030252323 | FF12: =DS12/$DS$17 -> 0.010293902 | FG12: =DT12/$DT$17 -> 0.017031365 | FH12: =DU12/$DU$17 -> 0.010323669 | FI12: =DV12/$DV$17 -> 0.048984063 | FO12: =EB12/$EB$17 -> 0.011590363
A13: Космета-Азия СП ТОО# | B13: =VLOOKUP(A13,[1]Лист4!A13:B57,2,0) -> 977537.06 | C13: =VLOOKUP(A13,[1]Лист5!A29:B60,2,0) -> 850368.17 | D13: =VLOOKUP(A13,[1]Лист6!A29:B60,2,0) -> 782294.38 | E13: =VLOOKUP(A13,[1]Лист7!A29:B60,2,0) -> 543562.99 | F13: =VLOOKUP(A13,[1]Лист8!A29:B62,2,0) -> 926883.72 | G13: =VLOOKUP(A13,[1]Лист9!A29:B60,2,0) -> 1041832.9 | H13: =VLOOKUP(A13,[1]Лист11!B16:C48,2,0) -> 2381328.3 | N13: =SUM(B13:M13) -> 7503807.5 | O13: =VLOOKUP(A13,[1]Лист4!A24:C56,3,0) -> 1048461.5 | P13: =VLOOKUP(A13,[1]Лист5!A29:C60,3,0) -> 894102.75 | Q13: =VLOOKUP(A13,[1]Лист6!A29:C60,3,0) -> 821614.75 | R13: =VLOOKUP(A13,[1]Лист7!A29:C60,3,0) -> 588640.75 | S13: =VLOOKUP(A13,[1]Лист8!A29:C62,3,0) -> 992900.5 | T13: =VLOOKUP(A13,[1]Лист9!A29:D60,3,0) -> 1095415 | U13: =VLOOKUP(A13,[1]Лист11!B16:D48,3,0) -> 2493023.5 | AA13: =SUM(O13:Z13) -> 7934158.8 | AB13: =VLOOKUP(A13,[1]Лист4!A24:D56,4,0) -> 70924.44 | AC13: =VLOOKUP(A13,[1]Лист5!A29:D60,4,0) -> 43734.58 | AD13: =VLOOKUP(A13,[1]Лист6!A29:D60,4,0) -> 39320.37 | AE13: =VLOOKUP(A13,[1]Лист7!A29:D60,4,0) -> 45077.76 | AF13: =VLOOKUP(A13,[1]Лист8!A29:D62,4,0) -> 66016.78 | AG13: =VLOOKUP(A13,[1]Лист9!A29:D60,4,0) -> 53582.11 | AH13: =VLOOKUP(A13,[1]Лист11!B16:E48,4,0) -> 111695.22 | AN13: =SUM(AB13:AM13) -> 430351.26 | AO13: =VLOOKUP(A13,[1]Лист4!A24:E56,5,0) -> 753625.86 | AP13: =VLOOKUP(A13,[1]Лист5!A29:E60,5,0) -> 977517.26 | AQ13: =VLOOKUP(A13,[1]Лист6!A29:E60,5,0) -> 668304.33 | AR13: =VLOOKUP(A13,[1]Лист7!A29:E60,5,0) -> 472226.74 | AS13: =VLOOKUP(A13,[1]Лист8!A29:E62,5,0) -> 914179.46 | AT13: =VLOOKUP(A13,[1]Лист9!A29:E60,5,0) -> 807577.81 | AU13: =VLOOKUP(A13,[1]Лист11!B16:F48,5,0) -> 3204660.2 | BA13: =AT13 -> 807577.81 | BF13: =[1]Лист1!R10 -> 76033.28 | BG13: =[1]Лист1!AA10 -> 136845.51 | BH13: ='[1]Компенсация промо'!AJ10 -> 109365.52 | BN13: =SUM(BB13:BM13) -> 322244.32 | CA13: =SUM(BO13:BZ13) -> 0 | CN13: =SUM(CB13:CM13) -> 0 | DA13: =SUM(CO13:CZ13) -> 0 | DB13: =BN13+CA13+CN13+DA13 -> 322244.32 | DD13: =(P13-AC13)/(AO13+AP13)/2*12 -> 2.9473063 | DE13: =(Q13-AD13)/(AP13+AQ13)/2*12 -> 2.851929 | DF13: =(R13-AE13)/(AQ13+AR13)/2*12 -> 2.8595257 | DG13: =(S13-AF13)/(AR13+AS13)/2*12 -> 4.011308 | DH13: =(T13-AG13)/(AS13+AT13)/2*12 -> 3.6305915 | DI13: =(U13-AH13)/(AT13+AU13)/2*12 -> 3.5610972 | DP13: =VLOOKUP(A13,[1]Лист3!A12:B43,2,0) -> 4422960 | DQ13: =VLOOKUP(A13,[1]Лист3!A12:C43,3,0) -> 4886993 | DR13: =VLOOKUP(A13,[1]Лист3!A12:D43,4,0) -> 3265341 | DS13: =VLOOKUP(A13,[1]Лист3!A12:E43,5,0) -> 2094356 | DT13: =VLOOKUP(A13,[1]Лист3!A12:F43,6,0) -> 4353893 | DU13: =VLOOKUP(A13,[1]Лист3!A12:G43,7,0) -> 2360054 | DV13: =[1]Лист14!G8 -> 893274 | EB13: =SUM(DP13:EA13) -> 22276871 | EC13: =B13/$B$17 -> 0.041432584 | ED13: =C13/$C$17 -> 0.042305143 | EE13: =D13/$D$17 -> 0.038208702 | EF13: =E13/$E$17 -> 0.033591634 | EG13: =F13/$F$17 -> 0.051265831 | EH13: =G13/$G$17 -> 0.082487932 | EI13: =H13/$H$17 -> 0.21201618 | EO13: =N13/$N$17 -> 0.061359806 | EP13: =AB13/$AB$17 -> 0.025349114 | EQ13: =AC13/$AC$17 -> 0.015840603 | ER13: =AD13/$AD$17 -> 0.015127033 | ES13: =AE13/$AE$17 -> 0.018254531 | ET13: =AF13/$AF$17 -> 0.041281142 | EU13: =AG13/$AG$17 -> 0.037900822 | EV13: =AH13/$AH$17 -> 0.093158794 | FB13: =AA13/$N$17 -> 0.064878855 | FC13: =DP13/$DP$17 -> 0.25599862 | FD13: =DQ13/$DQ$17 -> 0.2480426 | FE13: =DR13/$DR$17 -> 0.21120812 | FF13: =DS13/$DS$17 -> 0.16590173 | FG13: =DT13/$DT$17 -> 0.36929943 | FH13: =DU13/$DU$17 -> 0.1709088 | FI13: =DV13/$DV$17 -> 0.13255274 | FO13: =EB13/$EB$17 -> 0.22871214
A14: Олтри ТОО | B14: =VLOOKUP(A14,[1]Лист4!A14:B59,2,0) -> 1642850.7 | C14: =VLOOKUP(A14,[1]Лист5!A31:B62,2,0) -> 1277176.9 | D14: =VLOOKUP(A14,[1]Лист6!A31:B62,2,0) -> 1331019.5 | E14: =VLOOKUP(A14,[1]Лист7!A31:B62,2,0) -> 1331494.1 | F14: =VLOOKUP(A14,[1]Лист8!A31:B64,2,0) -> 1377793.2 | G14: =VLOOKUP(A14,[1]Лист9!A31:B62,2,0) -> 1009020.3 | H14: =VLOOKUP(A14,[1]Лист11!B17:C49,2,0) -> 1538098.1 | N14: =SUM(B14:M14) -> 9507452.8 | O14: =VLOOKUP(A14,[1]Лист4!A26:C58,3,0) -> 2091720 | P14: =VLOOKUP(A14,[1]Лист5!A31:C62,3,0) -> 1601660 | Q14: =VLOOKUP(A14,[1]Лист6!A31:C62,3,0) -> 1665160 | R14: =VLOOKUP(A14,[1]Лист7!A31:C62,3,0) -> 1665270 | S14: =VLOOKUP(A14,[1]Лист8!A31:C64,3,0) -> 1725820 | T14: =VLOOKUP(A14,[1]Лист9!A31:D62,3,0) -> 1266854 | U14: =VLOOKUP(A14,[1]Лист11!B17:D49,3,0) -> 1827545.5 | AA14: =SUM(O14:Z14) -> 11844030 | AB14: =VLOOKUP(A14,[1]Лист4!A26:D58,4,0) -> 448869.34 | AC14: =VLOOKUP(A14,[1]Лист5!A31:D62,4,0) -> 324483.12 | AD14: =VLOOKUP(A14,[1]Лист6!A31:D62,4,0) -> 334140.51 | AE14: =VLOOKUP(A14,[1]Лист7!A31:D62,4,0) -> 333775.85 | AF14: =VLOOKUP(A14,[1]Лист8!A31:D64,4,0) -> 348026.78 | AG14: =VLOOKUP(A14,[1]Лист9!A31:D62,4,0) -> 257833.69 | AH14: =VLOOKUP(A14,[1]Лист11!B17:E49,4,0) -> 289447.39 | AN14: =SUM(AB14:AM14) -> 2336576.7 | AO14: =VLOOKUP(A14,[1]Лист4!A26:E58,5,0) -> 9304415.5 | AP14: =VLOOKUP(A14,[1]Лист5!A31:E62,5,0) -> 9634815.3 | AQ14: =VLOOKUP(A14,[1]Лист6!A31:E62,5,0) -> 11198953 | AR14: =VLOOKUP(A14,[1]Лист7!A31:E62,5,0) -> 9888960.9 | AS14: =VLOOKUP(A14,[1]Лист8!A31:E64,5,0) -> 8477758.1 | AT14: =VLOOKUP(A14,[1]Лист9!A31:E62,5,0) -> 10098582 | AU14: =VLOOKUP(A14,[1]Лист11!B17:F49,5,0) -> 8612961.7 | BA14: =AT14 -> 10098582 | BN14: =SUM(BB14:BM14) -> 0 | CA14: =SUM(BO14:BZ14) -> 0 | CN14: =SUM(CB14:CM14) -> 0 | DA14: =SUM(CO14:CZ14) -> 0 | DB14: =BN14+CA14+CN14+DA14 -> 0 | DD14: =(P14-AC14)/(AO14+AP14)/2*12 -> 0.40461312 | DE14: =(Q14-AD14)/(AP14+AQ14)/2*12 -> 0.3833256 | DF14: =(R14-AE14)/(AQ14+AR14)/2*12 -> 0.37884092 | DG14: =(S14-AF14)/(AR14+AS14)/2*12 -> 0.45009451 | DH14: =(T14-AG14)/(AS14+AT14)/2*12 -> 0.32590498 | DI14: =(U14-AH14)/(AT14+AU14)/2*12 -> 0.49320295 | DP14: =VLOOKUP(A14,[1]Лист3!A13:B44,2,0) -> 0 | DQ14: =VLOOKUP(A14,[1]Лист3!A13:C44,3,0) -> 1786248.6 | DR14: =VLOOKUP(A14,[1]Лист3!A13:D44,4,0) -> 2875890.3 | DS14: =VLOOKUP(A14,[1]Лист3!A13:E44,5,0) -> 0 | DT14: =VLOOKUP(A14,[1]Лист3!A13:F44,6,0) -> 0 | DU14: =VLOOKUP(A14,[1]Лист3!A13:G44,7,0) -> 2615746.3 | DV14: 0 | EB14: =SUM(DP14:EA14) -> 7277885.2 | EC14: =B14/$B$17 -> 0.06963168 | ED14: =C14/$C$17 -> 0.063538538 | EE14: =D14/$D$17 -> 0.06500945 | EF14: =E14/$E$17 -> 0.082284969 | EG14: =F14/$F$17 -> 0.076205584 | EH14: =G14/$G$17 -> 0.079889971 | EI14: =H14/$H$17 -> 0.13694109 | EO14: =N14/$N$17 -> 0.077743927 | EP14: =AB14/$AB$17 -> 0.16043045 | EQ14: =AC14/$AC$17 -> 0.11752733 | ER14: =AD14/$AD$17 -> 0.12854799 | ES14: =AE14/$AE$17 -> 0.13516469 | ET14: =AF14/$AF$17 -> 0.21762562 | EU14: =AG14/$AG$17 -> 0.18237633 | EV14: =AH14/$AH$17 -> 0.24141203 | FB14: =AA14/$N$17 -> 0.096850479 | FC14: =DP14/$DP$17 -> 0 | FD14: =DQ14/$DQ$17 -> 0.090662244 | FE14: =DR14/$DR$17 -> 0.18601775 | FF14: =DS14/$DS$17 -> 0 | FG14: =DT14/$DT$17 -> 0 | FH14: =DU14/$DU$17 -> 0.18942536 | FI14: =DV14/$DV$17 -> 0 | FO14: =EB14/$EB$17 -> 0.074720579
A15: Прима Дистрибьюшн ТОО | B15: =[1]Лист4!B28 -> 2851109.8 | C15: =VLOOKUP(A15,[1]Лист5!A33:B64,2,0) -> 2443713.4 | D15: =VLOOKUP(A15,[1]Лист6!A33:B64,2,0) -> 2147663 | E15: =VLOOKUP(A15,[1]Лист7!A33:B64,2,0) -> 2047628.3 | F15: =VLOOKUP(A15,[1]Лист8!A33:B66,2,0) -> 1001681.9 | G15: =VLOOKUP(A15,[1]Лист9!A33:B64,2,0) -> 736086.26 | H15: =VLOOKUP(A15,[1]Лист11!B18:C50,2,0) -> 732537.53 | N15: =SUM(B15:M15) -> 11960420 | O15: =VLOOKUP(A15,[1]Лист4!A28:C60,3,0) -> 3211579 | P15: =VLOOKUP(A15,[1]Лист5!A33:C64,3,0) -> 2732111.5 | Q15: =VLOOKUP(A15,[1]Лист6!A33:C64,3,0) -> 2407630.8 | R15: =VLOOKUP(A15,[1]Лист7!A33:C64,3,0) -> 2281043 | S15: =VLOOKUP(A15,[1]Лист8!A33:C66,3,0) -> 1105276.2 | T15: =VLOOKUP(A15,[1]Лист9!A33:D64,3,0) -> 802222 | U15: =VLOOKUP(A15,[1]Лист11!B18:D50,3,0) -> 820721 | AA15: =SUM(O15:Z15) -> 13360584 | AB15: =VLOOKUP(A15,[1]Лист4!A28:D60,4,0) -> 360469.21 | AC15: =VLOOKUP(A15,[1]Лист5!A33:D64,4,0) -> 288398.08 | AD15: =VLOOKUP(A15,[1]Лист6!A33:D64,4,0) -> 259967.72 | AE15: =VLOOKUP(A15,[1]Лист7!A33:D64,4,0) -> 233414.74 | AF15: =VLOOKUP(A15,[1]Лист8!A33:D66,4,0) -> 103594.3 | AG15: =VLOOKUP(A15,[1]Лист9!A33:D64,4,0) -> 66135.74 | AH15: =VLOOKUP(A15,[1]Лист11!B18:E50,4,0) -> 88183.47 | AN15: =SUM(AB15:AM15) -> 1400163.3 | AO15: =VLOOKUP(A15,[1]Лист4!A28:E60,5,0) -> 3965038.5 | AP15: =VLOOKUP(A15,[1]Лист5!A33:E64,5,0) -> 3692886.5 | AQ15: =VLOOKUP(A15,[1]Лист6!A33:E64,5,0) -> 3354156 | AR15: =VLOOKUP(A15,[1]Лист7!A33:E64,5,0) -> 2282643.6 | AS15: =VLOOKUP(A15,[1]Лист8!A33:E66,5,0) -> 2255802.3 | AT15: =VLOOKUP(A15,[1]Лист9!A33:E64,5,0) -> 2132890.4 | AU15: =VLOOKUP(A15,[1]Лист11!B18:F50,5,0) -> 1641683.9 | BA15: =AT15 -> 2132890.4 | BE15: =[1]Лист1!J2 -> 55476 | BF15: =[1]Лист1!R2 -> 18610.639 | BG15: =[1]Лист1!AA2 -> 7001.64 | BH15: ='[1]Компенсация промо'!AJ2 -> 5978 | BN15: =SUM(BB15:BM15) -> 87066.279 | CA15: =SUM(BO15:BZ15) -> 0 | CN15: =SUM(CB15:CM15) -> 0 | DA15: =SUM(CO15:CZ15) -> 0 | DB15: =BN15+CA15+CN15+DA15 -> 87066.279 | DD15: =(P15-AC15)/(AO15+AP15)/2*12 -> 1.9146545 | DE15: =(Q15-AD15)/(AP15+AQ15)/2*12 -> 1.8285654 | DF15: =(R15-AE15)/(AQ15+AR15)/2*12 -> 2.1795647 | DG15: =(S15-AF15)/(AR15+AS15)/2*12 -> 1.324262 | DH15: =(T15-AG15)/(AS15+AT15)/2*12 -> 1.0063401 | DI15: =(U15-AH15)/(AT15+AU15)/2*12 -> 1.1644294 | DP15: =VLOOKUP(A15,[1]Лист3!A14:B45,2,0) -> 2059271.6 | DQ15: =VLOOKUP(A15,[1]Лист3!A14:C45,3,0) -> 2126925.3 | DR15: =VLOOKUP(A15,[1]Лист3!A14:D45,4,0) -> 1827577.6 | DS15: =VLOOKUP(A15,[1]Лист3!A14:E45,5,0) -> 877581 | DT15: =VLOOKUP(A15,[1]Лист3!A14:F45,6,0) -> 964849 | DU15: =VLOOKUP(A15,[1]Лист3!A14:G45,7,0) -> 633943 | DV15: =[1]Лист14!G11 -> 669457 | EB15: =SUM(DP15:EA15) -> 9159604.6 | EC15: =B15/$B$17 -> 0.12084334 | ED15: =C15/$C$17 -> 0.12157281 | EE15: =D15/$D$17 -> 0.10489583 | EF15: =E15/$E$17 -> 0.12654132 | EG15: =F15/$F$17 -> 0.055402913 | EH15: =G15/$G$17 -> 0.058280204 | EI15: =H15/$H$17 -> 0.065219824 | EO15: =N15/$N$17 -> 0.097802224 | EP15: =AB15/$AB$17 -> 0.12883535 | EQ15: =AC15/$AC$17 -> 0.10445738 | ER15: =AD15/$AD$17 -> 0.1000128 | ES15: =AE15/$AE$17 -> 0.094522812 | ET15: =AF15/$AF$17 -> 0.064778848 | EU15: =AG15/$AG$17 -> 0.046780519 | EV15: =AH15/$AH$17 -> 0.073548946 | FB15: =AA15/$N$17 -> 0.10925158 | FC15: =DP15/$DP$17 -> 0.11918957 | FD15: =DQ15/$DQ$17 -> 0.10795352 | FE15: =DR15/$DR$17 -> 0.118211 | FF15: =DS15/$DS$17 -> 0.069516455 | FG15: =DT15/$DT$17 -> 0.081838985 | FH15: =DU15/$DU$17 -> 0.045908458 | FI15: =DV15/$DV$17 -> 0.099340583 | FO15: =EB15/$EB$17 -> 0.094039812
A16: Прогресс Торг ТОО | B16: =VLOOKUP(A16,[1]Лист4!A15:B62,2,0) -> 47673.11 | C16: =VLOOKUP(A16,[1]Лист5!A34:B65,2,0) -> 34050.3 | D16: =VLOOKUP(A16,[1]Лист6!A34:B65,2,0) -> 567528.53 | E16: =VLOOKUP(A16,[1]Лист7!A34:B65,2,0) -> 258364.08 | F16: =VLOOKUP(A16,[1]Лист8!A34:B67,2,0) -> 173686.27 | G16: =VLOOKUP(A16,[1]Лист9!A34:B65,2,0) -> 109356.01 | H16: =VLOOKUP(A16,[1]Лист11!B19:C51,2,0) -> 79682.59 | N16: =SUM(B16:M16) -> 1270340.9 | O16: =VLOOKUP(A16,[1]Лист4!A29:C61,3,0) -> 55380 | P16: =VLOOKUP(A16,[1]Лист5!A34:C65,3,0) -> 39095 | Q16: =VLOOKUP(A16,[1]Лист6!A34:C65,3,0) -> 349945 | R16: =VLOOKUP(A16,[1]Лист7!A34:C65,3,0) -> 228694 | S16: =VLOOKUP(A16,[1]Лист8!A34:C67,3,0) -> 167395 | T16: =VLOOKUP(A16,[1]Лист9!A34:D65,3,0) -> 125655 | U16: =VLOOKUP(A16,[1]Лист11!B19:D51,3,0) -> 79682.59 | AA16: =SUM(O16:Z16) -> 1045846.6 | AB16: =VLOOKUP(A16,[1]Лист4!A29:D61,4,0) -> 7706.89 | AC16: =VLOOKUP(A16,[1]Лист5!A34:D65,4,0) -> 5044.7 | AD16: =VLOOKUP(A16,[1]Лист6!A34:D65,4,0) -> -217583.53 | AE16: =VLOOKUP(A16,[1]Лист7!A34:D65,4,0) -> -29670.08 | AF16: =VLOOKUP(A16,[1]Лист8!A34:D67,4,0) -> -6291.27 | AG16: =VLOOKUP(A16,[1]Лист9!A34:D65,4,0) -> 16298.99 | AH16: =VLOOKUP(A16,[1]Лист11!B19:E51,4,0) -> 79682.59 | AN16: =SUM(AB16:AM16) -> -144811.71 | AO16: =VLOOKUP(A16,[1]Лист4!A29:E61,5,0) -> 138302.98 | AP16: =VLOOKUP(A16,[1]Лист5!A34:E65,5,0) -> 155981.46 | AQ16: =VLOOKUP(A16,[1]Лист6!A34:E65,5,0) -> 454097.07 | AR16: =VLOOKUP(A16,[1]Лист7!A34:E65,5,0) -> 359874.11 | AS16: =VLOOKUP(A16,[1]Лист8!A34:E67,5,0) -> 439190.2 | AT16: =VLOOKUP(A16,[1]Лист9!A34:E65,5,0) -> 327410.13 | AU16: =VLOOKUP(A16,[1]Лист11!B19:F51,5,0) -> 79682.59 | BA16: =AT16 -> 327410.13 | BE16: =[1]Лист1!J12 -> 77023.5 | BF16: =[1]Лист1!R12 -> 28473.75 | BN16: =SUM(BB16:BM16) -> 105497.25 | CA16: =SUM(BO16:BZ16) -> 0 | CN16: =SUM(CB16:CM16) -> 0 | DA16: =SUM(CO16:CZ16) -> 0 | DB16: =BN16+CA16+CN16+DA16 -> 105497.25 | DD16: =(P16-AC16)/(AO16+AP16)/2*12 -> 0.69423242 | DE16: =(Q16-AD16)/(AP16+AQ16)/2*12 -> 5.5815293 | DF16: =(R16-AE16)/(AQ16+AR16)/2*12 -> 1.904471 | DG16: =(S16-AF16)/(AR16+AS16)/2*12 -> 1.3041724 | DH16: =(T16-AG16)/(AS16+AT16)/2*12 -> 0.8559037 | DI16: =(U16-AH16)/(AT16+AU16)/2*12 -> 0 | DP16: =VLOOKUP(A16,[1]Лист3!A15:B46,2,0) -> 56758 | DQ16: =VLOOKUP(A16,[1]Лист3!A15:C46,3,0) -> 186162 | DR16: =VLOOKUP(A16,[1]Лист3!A15:D46,4,0) -> 920739 | DS16: =VLOOKUP(A16,[1]Лист3!A15:E46,5,0) -> 195450 | DT16: =VLOOKUP(A16,[1]Лист3!A15:F46,6,0) -> 319823 | DU16: =VLOOKUP(A16,[1]Лист3!A15:G46,7,0) -> 16352 | DV16: =[1]Лист14!G10 -> 181124 | EB16: =SUM(DP16:EA16) -> 1876408 | EC16: =B16/$B$17 -> 0.0020206089 | ED16: =C16/$C$17 -> 0.0016939754 | EE16: =D16/$D$17 -> 0.027719142 | EF16: =E16/$E$17 -> 0.015966634 | EG16: =F16/$F$17 -> 0.0096065675 | EH16: =G16/$G$17 -> 0.0086583475 | EI16: =H16/$H$17 -> 0.0070943594 | EO16: =N16/$N$17 -> 0.010387776 | EP16: =AB16/$AB$17 -> 0.0027545206 | EQ16: =AC16/$AC$17 -> 0.0018271832 | ER16: =AD16/$AD$17 -> -0.083707078 | ES16: =AE16/$AE$17 -> -0.012015091 | ET16: =AF16/$AF$17 -> -0.0039340121 | EU16: =AG16/$AG$17 -> 0.011528943 | EV16: =AH16/$AH$17 -> 0.066458833 | FB16: =AA16/$N$17 -> 0.0085520509 | FC16: =DP16/$DP$17 -> 0.0032851235 | FD16: =DQ16/$DQ$17 -> 0.0094487768 | FE16: =DR16/$DR$17 -> 0.059555052 | FF16: =DS16/$DS$17 -> 0.015482321 | FG16: =DT16/$DT$17 -> 0.02712755 | FH16: =DU16/$DU$17 -> 0.0011841681 | FI16: =DV16/$DV$17 -> 0.026876952 | FO16: =EB16/$EB$17 -> 0.019264702
A17: ИТОГО ПАРАФАРМАЦИЯ | B17: =SUM(B4:B15) -> 23593437 | C17: =SUM(C4:C15) -> 20100823 | D17: =SUM(D4:D15) -> 20474246 | E17: =SUM(E4:E15) -> 16181499 | F17: =SUM(F4:F15) -> 18079951 | G17: =SUM(G4:G15) -> 12630125 | H17: =SUM(H4:H15) -> 11231823 | N17: =SUM(B17:M17) -> 1.222919e+08 | O17: =SUM(O4:O15) -> 26391343 | P17: =SUM(P4:P15) -> 22861739 | Q17: =SUM(Q4:Q15) -> 23073591 | R17: =SUM(R4:R15) -> 18650900 | S17: =SUM(S4:S15) -> 19679150 | T17: =SUM(T4:T15) -> 14043870 | U17: =SUM(U4:U15) -> 12430800 | AA17: =SUM(AA4:AA16) -> 1.3817724e+08 | AB17: =SUM(AB4:AB15) -> 2797906.1 | AC17: =SUM(AC4:AC15) -> 2760916.4 | AD17: =SUM(AD4:AD15) -> 2599344.5 | AE17: =SUM(AE4:AE15) -> 2469401.1 | AF17: =SUM(AF4:AF15) -> 1599199.5 | AG17: =SUM(AG4:AG15) -> 1413745.3 | AH17: =SUM(AH4:AH15) -> 1198976.7 | AN17: =SUM(AB17:AM17) -> 14839490 | AO17: =SUM(AO4:AO15) -> 33673949 | AP17: =SUM(AP4:AP15) -> 35249259 | AQ17: =SUM(AQ4:AQ15) -> 32236712 | AR17: =SUM(AR4:AR15) -> 28498004 | AS17: =SUM(AS4:AS15) -> 24961258 | AT17: =SUM(AT4:AT15) -> 27697567 | AU17: =SUM(AU4:AU15) -> 22128179 | BA17: =SUM(AO17:AZ17) -> 2.0444493e+08 | BB17: =SUM(BB4:BB16) -> 0 | BC17: =SUM(BC4:BC16) -> 0 | BD17: =SUM(BD4:BD16) -> 0 | BE17: =SUM(BE4:BE16) -> 140702.3 | BF17: =SUM(BF4:BF16) -> 1079838.7 | BG17: =SUM(BG4:BG16) -> 554560.57 | BH17: =SUM(BH4:BH16) -> 134779.41 | BI17: =SUM(BI4:BI16) -> 0 | ... BM17: =SUM(BM4:BM16) -> 0 | BN17: =SUM(BB17:BM17) -> 1909881 | BO17: =SUM(BO4:BO16) -> 0 | BP17: =SUM(BP4:BP16) -> 0 | BQ17: =SUM(BQ4:BQ16) -> 0 | BR17: =SUM(BR4:BR16) -> 457656 | BS17: =SUM(BS4:BS16) -> 0 | BT17: =SUM(BT4:BT16) -> 0 | BU17: =SUM(BU4:BU16) -> 510313 | BV17: =SUM(BV4:BV16) -> 0 | ... BZ17: =SUM(BZ4:BZ16) -> 0 | CA17: =SUM(BO17:BZ17) -> 967969 | CB17: =SUM(CB4:CB16) -> 0 | CC17: =SUM(CC4:CC16) -> 0 | CD17: =SUM(CD4:CD16) -> 0 | CE17: =SUM(CE4:CE16) -> 0 | CF17: =SUM(CF4:CF16) -> 0 | CG17: =SUM(CG4:CG16) -> 0 | CH17: =SUM(CH4:CH16) -> 0 | CI17: =SUM(CI4:CI16) -> 0 | ... CM17: =SUM(CM4:CM16) -> 0 | CN17: =SUM(CB17:CM17) -> 0 | CO17: =SUM(CO4:CO16) -> 0 | CP17: =SUM(CP4:CP16) -> 0 | CQ17: =SUM(CQ4:CQ16) -> 0 | CR17: =SUM(CR4:CR16) -> 0 | CS17: =SUM(CS4:CS16) -> 0 | CT17: =SUM(CT4:CT16) -> 0 | CU17: =SUM(CU4:CU16) -> 0 | CV17: =SUM(CV4:CV16) -> 0 | ... CZ17: =SUM(CZ4:CZ16) -> 0 | DA17: =SUM(CO17:CZ17) -> 0 | DB17: =SUM(DB4:DB15) -> 2772352.7 | DP17: =SUM(DP4:DP16) -> 17277281 | DQ17: =SUM(DQ4:DQ16) -> 19702233 | DR17: =SUM(DR4:DR16) -> 15460301 | DS17: =SUM(DS4:DS16) -> 12624076 | DT17: =SUM(DT4:DT16) -> 11789601 | DU17: =SUM(DU4:DU16) -> 13808850 | DV17: =SUM(DV4:DV16) -> 6739008.2 | DW17: =SUM(DW4:DW16) -> 0 | ... EA17: =SUM(EA4:EA16) -> 0 | EB17: =SUM(DP17:EA17) -> 97401349 | EC17: 1 | ED17: 1 | EE17: 1 | EF17: 1 | EG17: 1 | EH17: 1 | EI17: 1 | EJ17: 1 | EK17: 1 | EL17: 1 | EM17: 1 | EN17: 1 | EO17: 1 | EP17: 1 | EQ17: 1 | ER17: 1 | ES17: 1 | ET17: 1 | EU17: 1 | EV17: 1 | EW17: 1 | EX17: 1 | EY17: 1 | EZ17: 1 | FA17: 1 | FB17: 1 | FC17: 1 | FD17: 1 | FE17: 1 | FF17: 1 | FG17: 1 | FH17: 1 | FI17: 1 | FJ17: 1 | FK17: 1 | FL17: 1 | FM17: 1 | FN17: 1 | FO17: 1
B18: 42005 | C18: 42036 | D18: 42064 | E18: 42095 | F18: 42125 | G18: 42156 | H18: 42186 | I18: 42217 | J18: 42248 | K18: 42278 | L18: 42309 | M18: 42339 | N18: итого | O18: 42005 | P18: 42036 | Q18: 42064 | R18: 42095 | S18: 42125 | T18: 42156 | U18: 42186 | V18: 42217 | W18: 42248 | X18: 42278 | Y18: 42309 | Z18: 42339 | AA18: итого | AB18: 42005 | AC18: 42036 | AD18: 42064 | AE18: 42095 | AF18: 42125 | AG18: 42156 | AH18: 42186 | AI18: 42217 | AJ18: 42248 | AK18: 42278 | AL18: 42309 | AM18: 42339 | AN18: итого | AO18: 42005 | AP18: 42036 | AQ18: 42064 | AR18: 42095 | AS18: 42125 | AT18: 42156 | AU18: 42186 | AV18: 42217 | AW18: 42248 | AX18: 42278 | AY18: 42309 | AZ18: 42339 | BA18: итого | BB18: 42005 | BC18: 42036 | BD18: 42064 | BE18: 42095 | BF18: 42125 | BG18: 42156 | BH18: 42186 | BI18: 42217 | BJ18: 42248 | BK18: 42278 | BL18: 42309 | BM18: 42339 | BN18: итого | BO18: 42339 | BP18: 42036 | BQ18: 42064 | BR18: 42095 | BS18: 42125 | BT18: 42156 | BU18: 42186 | BV18: 42217 | BW18: 42248 | BX18: 42278 | BY18: 42309 | BZ18: 42339 | CA18: итого | CB18: 42339 | CC18: 42036 | CD18: 42064 | CE18: 42095 | CF18: 42125 | CG18: 42156 | CH18: 42186 | CI18: 42217 | CJ18: 42248 | CK18: 42278 | CL18: 42309 | CM18: 42339 | CN18: итого | CO18: 42339 | CP18: 42036 | CQ18: 42064 | CR18: 42095 | CS18: 42125 | CT18: 42156 | CU18: 42186 | CV18: 42217 | CW18: 42248 | CX18: 42278 | CY18: 42309 | CZ18: 42339 | DA18: итого | DB18: Общая сумма по компенсациям | DC18: 42005 | DD18: 42036 | DE18: 42064 | DF18: 42095 | DG18: 42125 | DH18: 42156 | DI18: 42186 | DJ18: 42217 | DK18: 42248 | DL18: 42278 | DM18: 42309 | DN18: 42339 | DO18: оборачиваемость | DP18: 42005 | DQ18: 42036 | DR18: 42064 | DS18: 42095 | DT18: 42125 | DU18: 42156 | DV18: 42186 | DW18: 42217 | DX18: 42248 | DY18: 42278 | DZ18: 42309 | EA18: 42339 | EB18: итого | EC18: 42005 | ED18: 42036 | EE18: 42064 | EF18: 42095 | EG18: 42125 | EH18: 42156 | EI18: 42186 | EJ18: 42217 | EK18: 42248 | EL18: 42278 | EM18: 42309 | EN18: 42339 | EO18: итого | EP18: 42005 | EQ18: 42036 | ER18: 42064 | ES18: 42095 | ET18: 42125 | EU18: 42156 | EV18: 42186 | EW18: 42217 | EX18: 42248 | EY18: 42278 | EZ18: 42309 | FA18: 42339 | FB18: итого | FC18: 42005 | FD18: 42036 | FE18: 42064 | FF18: 42095 | FG18: 42125 | FH18: 42156 | FI18: 42186 | FJ18: 42217 | FK18: 42248 | FL18: 42278 | FM18: 42309 | FN18: 42339 | FO18: итого
